Workbook

Sheet סיכום מנהלים
A1: השוואת 5 הבנקים הגדולים בישראל — 2023 עד מחצית 2026
A2: מבוסס על הדוחות הכספיים השנתיים 2023–2025 והדוחות הרבעוניים Q1–Q2 2026 (מאוחד). כל המספרים מחושבים בנוסחאות מגיליון "נתונים".
A4: מדד מפתח | B4: הפועלים | C4: לאומי | D4: מזרחי־טפחות | E4: דיסקונט | F4: הבינלאומי | G4: ממוצע
A5: רווח נקי H1-26 (מ' ש"ח) | B5: =IFERROR(נתונים!$N$14,"") -> 4612 | C5: =IFERROR(נתונים!$N$59,"") -> 5178 | D5: =IFERROR(נתונים!$N$104,"") -> 2666 | E5: =IFERROR(נתונים!$N$149,"") -> 2133 | F5: =IFERROR(נתונים!$N$194,"") -> 1063 | G5: =IF(COUNT(B5:F5)=0,"",AVERAGE(B5:F5)) -> 3130.4
A6: רווח נקי 2025 (מ' ש"ח) | B6: =IFERROR(נתונים!$H$14,"") -> 9802 | C6: =IFERROR(נתונים!$H$59,"") -> 10262 | D6: =IFERROR(נתונים!$H$104,"") -> 5630 | E6: =IFERROR(נתונים!$H$149,"") -> 4140 | F6: =IFERROR(נתונים!$H$194,"") -> 2260 | G6: =IF(COUNT(B6:F6)=0,"",AVERAGE(B6:F6)) -> 6418.8
A7: צמיחת רווח H1-26 מול H1-25 | B7: =IFERROR(נתונים!$N$14/נתונים!$K$14-1,"") -> -0.071284736 | C7: =IFERROR(נתונים!$N$59/נתונים!$K$59-1,"") -> 0.032914423 | D7: =IFERROR(נתונים!$N$104/נתונים!$K$104-1,"") -> -0.028071455 | E7: =IFERROR(נתונים!$N$149/נתונים!$K$149-1,"") -> -0.0083682008 | F7: =IFERROR(נתונים!$N$194/נתונים!$K$194-1,"") -> -0.089117395 | G7: =IF(COUNT(B7:F7)=0,"",AVERAGE(B7:F7)) -> -0.032785473
A8: תשואה להון H1-26 (שנתי, מחושב) | B8: =IFERROR(נתונים!$N$14*2/AVERAGE(נתונים!$H$26,נתונים!$M$26),"") -> 0.13994735 | C8: =IFERROR(נתונים!$N$59*2/AVERAGE(נתונים!$H$71,נתונים!$M$71),"") -> 0.14932841 | D8: =IFERROR(נתונים!$N$104*2/AVERAGE(נתונים!$H$116,נתונים!$M$116),"") -> 0.15048331 | E8: =IFERROR(נתונים!$N$149*2/AVERAGE(נתונים!$H$161,נתונים!$M$161),"") -> 0.12437862 | F8: =IFERROR(נתונים!$N$194*2/AVERAGE(נתונים!$H$206,נתונים!$M$206),"") -> 0.1440721 | G8: =IF(COUNT(B8:F8)=0,"",AVERAGE(B8:F8)) -> 0.14164196
A9: תשואה להון 2025 (מחושב) | B9: =IFERROR(נתונים!$H$14*1/AVERAGE(נתונים!$G$26,נתונים!$H$26),"") -> 0.1596066 | C9: =IFERROR(נתונים!$H$59*1/AVERAGE(נתונים!$G$71,נתונים!$H$71),"") -> 0.1581348 | D9: =IFERROR(נתונים!$H$104*1/AVERAGE(נתונים!$G$116,נתונים!$H$116),"") -> 0.17045885 | E9: =IFERROR(נתונים!$H$149*1/AVERAGE(נתונים!$G$161,נתונים!$H$161),"") -> 0.12664811 | F9: =IFERROR(נתונים!$H$194*1/AVERAGE(נתונים!$G$206,נתונים!$H$206),"") -> 0.1611753 | G9: =IF(COUNT(B9:F9)=0,"",AVERAGE(B9:F9)) -> 0.15520473
A10: תשואה להון 2025 (מדווח) | B10: =IFERROR(נתונים!$H$32/100,"") -> 0.159 | C10: =IFERROR(נתונים!$H$77/100,"") -> 0.158 | D10: =IFERROR(נתונים!$H$122/100,"") -> 0.17 | E10: =IFERROR(נתונים!$H$167/100,"") -> 0.126 | F10: =IFERROR(נתונים!$H$212/100,"") -> 0.162 | G10: =IF(COUNT(B10:F10)=0,"",AVERAGE(B10:F10)) -> 0.155
A11: ROA H1-26 | B11: =IFERROR(נתונים!$N$14*2/AVERAGE(נתונים!$H$18,נתונים!$M$18),"") -> 0.011704574 | C11: =IFERROR(נתונים!$N$59*2/AVERAGE(נתונים!$H$63,נתונים!$M$63),"") -> 0.011378751 | D11: =IFERROR(נתונים!$N$104*2/AVERAGE(נתונים!$H$108,נתונים!$M$108),"") -> 0.0094205946 | E11: =IFERROR(נתונים!$N$149*2/AVERAGE(נתונים!$H$153,נתונים!$M$153),"") -> 0.0088726568 | F11: =IFERROR(נתונים!$N$194*2/AVERAGE(נתונים!$H$198,נתונים!$M$198),"") -> 0.0074363226 | G11: =IF(COUNT(B11:F11)=0,"",AVERAGE(B11:F11)) -> 0.0097625796
A12: יחס עלות-הכנסה H1-26 | B12: =IFERROR(נתונים!$N$10/נתונים!$N$9,"") -> 0.3332783 | C12: =IFERROR(נתונים!$N$55/נתונים!$N$54,"") -> 0.26707044 | D12: =IFERROR(נתונים!$N$100/נתונים!$N$99,"") -> 0.35895676 | E12: =IFERROR(נתונים!$N$145/נתונים!$N$144,"") -> 0.46031264 | F12: =IFERROR(נתונים!$N$190/נתונים!$N$189,"") -> 0.47669305 | G12: =IF(COUNT(B12:F12)=0,"",AVERAGE(B12:F12)) -> 0.37926224
A13: הכנסות ריבית / נכסים H1-26 | B13: =IFERROR(נתונים!$N$5*2/AVERAGE(נתונים!$H$18,נתונים!$M$18),"") -> 0.02299294 | C13: =IFERROR(נתונים!$N$50*2/AVERAGE(נתונים!$H$63,נתונים!$M$63),"") -> 0.018637154 | D13: =IFERROR(נתונים!$N$95*2/AVERAGE(נתונים!$H$108,נתונים!$M$108),"") -> 0.020159224 | E13: =IFERROR(נתונים!$N$140*2/AVERAGE(נתונים!$H$153,נתונים!$M$153),"") -> 0.020182902 | F13: =IFERROR(נתונים!$N$185*2/AVERAGE(נתונים!$H$198,נתונים!$M$198),"") -> 0.015963959 | G13: =IF(COUNT(B13:F13)=0,"",AVERAGE(B13:F13)) -> 0.019587236
A14: עלות סיכון H1-26 | B14: =IFERROR(נתונים!$N$6*2/AVERAGE(נתונים!$H$19,נתונים!$M$19),"") -> 0.0012819328 | C14: =IFERROR(נתונים!$N$51*2/AVERAGE(נתונים!$H$64,נתונים!$M$64),"") -> 0.0016825193 | D14: =IFERROR(נתונים!$N$96*2/AVERAGE(נתונים!$H$109,נתונים!$M$109),"") -> 0.00058721687 | E14: =IFERROR(נתונים!$N$141*2/AVERAGE(נתונים!$H$154,נתונים!$M$154),"") -> 0.0016990205 | F14: =IFERROR(נתונים!$N$186*2/AVERAGE(נתונים!$H$199,נתונים!$M$199),"") -> -0.00049194919 | G14: =IF(COUNT(B14:F14)=0,"",AVERAGE(B14:F14)) -> 0.00095174807
A15: CET1 ל-30.6.26 | B15: =IFERROR(נתונים!$M$34/100,"") -> 0.1183 | C15: =IFERROR(נתונים!$M$79/100,"") -> 0.1165 | D15: =IFERROR(נתונים!$M$124/100,"") -> 0.1022 | E15: =IFERROR(נתונים!$M$169/100,"") -> 0.1027 | F15: =IFERROR(נתונים!$M$214/100,"") -> 0.1087 | G15: =IF(COUNT(B15:F15)=0,"",AVERAGE(B15:F15)) -> 0.10968
A16: עודף CET1 מעל הדרישה | B16: =IFERROR((נתונים!$M$34-נתונים!$M$36)/100,"") -> 0.016 | C16: =IFERROR((נתונים!$M$79-נתונים!$M$81)/100,"") -> 0.0142 | D16: =IFERROR((נתונים!$M$124-נתונים!$M$126)/100,"") -> 0.0062 | E16: =IFERROR((נתונים!$M$169-נתונים!$M$171)/100,"") -> 0.0106 | F16: =IFERROR((נתונים!$M$214-נתונים!$M$216)/100,"") -> 0.0163 | G16: =IF(COUNT(B16:F16)=0,"",AVERAGE(B16:F16)) -> 0.01266
A17: יחס מינוף | B17: =IFERROR(נתונים!$M$37/100,"") -> 0.0745 | C17: =IFERROR(נתונים!$M$82/100,"") -> 0.0658 | D17: =IFERROR(נתונים!$M$127/100,"") -> 0.0579 | E17: =IFERROR(נתונים!$M$172/100,"") -> 0.066 | F17: =IFERROR(נתונים!$M$217/100,"") -> 0.0485 | G17: =IF(COUNT(B17:F17)=0,"",AVERAGE(B17:F17)) -> 0.06254
A18: LCR | B18: =IFERROR(נתונים!$M$38/100,"") -> 1.26 | C18: =IFERROR(נתונים!$M$83/100,"") -> 1.22 | D18: =IFERROR(נתונים!$M$128/100,"") -> 1.32 | E18: =IFERROR(נתונים!$M$173/100,"") -> 1.223 | F18: =IFERROR(נתונים!$M$218/100,"") -> 1.27 | G18: =IF(COUNT(B18:F18)=0,"",AVERAGE(B18:F18)) -> 1.2586
A19: אשראי / פיקדונות | B19: =IFERROR(נתונים!$M$19/נתונים!$M$22,"") -> 0.86743427 | C19: =IFERROR(נתונים!$M$64/נתונים!$M$67,"") -> 0.78804597 | D19: =IFERROR(נתונים!$M$109/נתונים!$M$112,"") -> 0.89313778 | E19: =IFERROR(נתונים!$M$154/נתונים!$M$157,"") -> 0.84244457 | F19: =IFERROR(נתונים!$M$199/נתונים!$M$202,"") -> 0.64679746 | G19: =IF(COUNT(B19:F19)=0,"",AVERAGE(B19:F19)) -> 0.80757201
A20: סך נכסים 30.6.26 (מ' ש"ח) | B20: =IFERROR(נתונים!$M$18,"") -> 809471 | C20: =IFERROR(נתונים!$M$63,"") -> 947264 | D20: =IFERROR(נתונים!$M$108,"") -> 580815 | E20: =IFERROR(נתונים!$M$153,"") -> 483460 | F20: =IFERROR(נתונים!$M$198,"") -> 293955 | G20: =IF(COUNT(B20:F20)=0,"",AVERAGE(B20:F20)) -> 622993
A21: נתח שוק אשראי | B21: =IFERROR(נתונים!$M$19/SUM(נתונים!$M$19,נתונים!$M$64,נתונים!$M$109,נתונים!$M$154,נתונים!$M$199),"") -> 0.26896216 | C21: =IFERROR(נתונים!$M$64/SUM(נתונים!$M$19,נתונים!$M$64,נתונים!$M$109,נתונים!$M$154,נתונים!$M$199),"") -> 0.28418216 | D21: =IFERROR(נתונים!$M$109/SUM(נתונים!$M$19,נתונים!$M$64,נתונים!$M$109,נתונים!$M$154,נתונים!$M$199),"") -> 0.21255423 | E21: =IFERROR(נתונים!$M$154/SUM(נתונים!$M$19,נתונים!$M$64,נתונים!$M$109,נתונים!$M$154,נתונים!$M$199),"") -> 0.1527357 | F21: =IFERROR(נתונים!$M$199/SUM(נתונים!$M$19,נתונים!$M$64,נתונים!$M$109,נתונים!$M$154,נתונים!$M$199),"") -> 0.081565752 | G21: =IF(COUNT(B21:F21)=0,"",AVERAGE(B21:F21)) -> 0.2
A22: שיעור חלוקה 2025 | B22: =IFERROR((נתונים!$H$16+נתונים!$H$17)/נתונים!$H$14,"") -> 0.49571516 | C22: =IFERROR((נתונים!$H$61+נתונים!$H$62)/נתונים!$H$59,"") -> 0.55788345 | D22: =IFERROR(נתונים!$H$106/נתונים!$H$104,"") -> 0.47708703 | E22: =IFERROR((נתונים!$H$151+נתונים!$H$152)/נתונים!$H$149,"") -> 0.47497585 | F22: =IFERROR((נתונים!$H$196+נתונים!$H$197)/נתונים!$H$194,"") -> 0.65840708 | G22: =IF(COUNT(B22:F22)=0,"",AVERAGE(B22:F22)) -> 0.53281371
A23: מיקום בדירוג המשוקלל (1 = הטוב ביותר) | B23: =דירוג!C17 -> 4 | C23: =דירוג!D17 -> 1 | D23: =דירוג!E17 -> 2 | E23: =דירוג!F17 -> 5 | F23: =דירוג!G17 -> 3
A25: תובנות מרכזיות
A26: • שיא רווחים ב-2025 ותחילת ירידה ב-2026: חמשת הבנקים הרוויחו יחד כ-32.1 מיליארד ש"ח ב-2025. במחצית הראשונה של 2026 הרווח המצרפי ירד בכ-2.4% (15.7 מול 16.0 מיליארד), והתשואה הממוצעת להון ירדה מכ-15.9% ל-14.2%.
A27: • שני מנועים לירידה: (1) שחיקת המרווח — הכנסות ריבית נטו לנכסים ירדו מ-2.46% ב-2023 ל-1.96% ב-H1-26 עם הורדות הריבית; (2) מס נוסף על הבנקים — שיעור המס האפקטיבי קפץ לכ-41% לעומת כ-37% ב-2025.
A28: • לאומי — המוביל: הבנק הגדול ביותר (כ-30% מנכסי חמשת הבנקים), היעיל ביותר (עלות-הכנסה 26.7%), הבנק היחיד עם צמיחת רווח ב-H1-26 (+3.3%), ומקום 1 בדירוג המשוקלל.
A29: • מזרחי־טפחות — התשואה הגבוהה אך כרית ההון הדקה: ROE הגבוה במערכת לאורך 2023–2025 (17.1% ב-2025) אך עודף CET1 של 0.6 נק' אחוז בלבד מעל הדרישה, ריכוזיות משכנתאות של כ-59% מהאשראי וכיסוי הפרשה לחובות שאינם צוברים של כ-96% בלבד.
A30: • הפועלים — מרווח חזק והון חזק, רווח 2025 מנופח: הכנסות ריבית/נכסים הגבוהות במערכת (2.30%) ויחס מינוף 7.45%. זינוק הרווח ב-2025 (+28%) כולל רווח חד-פעמי מהסדר (כ-380 מ' ש"ח נטו), ולכן הירידה ב-H1-26 (-7.1%) חדה יחסית.
A31: • דיסקונט — הפער ביעילות: ה-ROE הנמוך (12.4% ב-H1-26) ויחס עלות-הכנסה של כ-46% מול 27%–36% אצל שלושת הגדולים; נתח השוק באשראי ירד מ-16.3% ל-15.3%. מכירת כאל עשויה לשחרר הון ולשפר את התמונה.
A32: • הבינלאומי — פרופיל שמרני ורגיש לריבית: יחס אשראי/פיקדונות הנמוך ביותר (65%) ונכסים נזילים של כ-41%; העמלות הן 27% מההכנסות (הגבוה במערכת). אך הכנסות הריבית ירדו ב-6.6% ב-H1-26 ויחס עלות-הכנסה עלה ל-47.7% — הרווח ירד ב-8.9%.
A33: • איכות אשראי במיטבה: עלות הסיכון ירדה מ-0.49% ב-2023 (הפרשות המלחמה) לכ-0.10%, ושיעור החובות שאינם צוברים ירד מ-0.88% ל-0.57%. במקביל ההפרשה לאשראי ירדה מ-1.47% ל-1.13% — כרית קטנה יותר אם המחזור יתהפך.
A34: • האשראי צומח מהר מהפיקדונות: ב-2025 האשראי צמח ב-12% והפיקדונות ב-9.5%; יחס אשראי/פיקדונות עלה מ-77% ל-81% ו-NSFR ירד מ-1.26 ל-1.15 — המימון מתהדק.
A35: • חלוקה אגרסיבית: שיעור החלוקה (דיבידנד + רכישה עצמית) עלה מכ-30% מהרווח ב-2023 לכ-53% ב-2025. יחס CET1 הממוצע ירד קלות (11.2%→11.0%), אך עודף ההון המצרפי מעל הדרישה עומד עדיין על כ-25.8 מיליארד ש"ח.
A36: • גיוון הכנסות: משקל העמלות בסך ההכנסות עלה מ-17.3% ל-19.6% — ממתן את ירידת הכנסות הריבית.

Sheet דירוג
A1: כרטיס ניקוד — דירוג משוקלל של 5 הבנקים
A2: דירוג 1 = הטוב ביותר בכל מדד. ציון משוקלל = סכום (דירוג × משקל); ציון נמוך = טוב יותר. את המשקלים (צהוב) ניתן לשנות — הדירוג מתעדכן.
C3: ערכים | I3: דירוג לפי מדד
A4: מדד | B4: משקל | C4: הפועלים | D4: לאומי | E4: מזרחי־טפחות | F4: דיסקונט | G4: הבינלאומי | I4: דירוג: הפועלים | J4: דירוג: לאומי | K4: דירוג: מזרחי־טפחות | L4: דירוג: דיסקונט | M4: דירוג: הבינלאומי
A5: תשואה להון (H1-26, שנתי) | B5: 0.2 | C5: =IFERROR(נתונים!$N$14*2/AVERAGE(נתונים!$H$26,נתונים!$M$26),"") -> 0.13994735 | D5: =IFERROR(נתונים!$N$59*2/AVERAGE(נתונים!$H$71,נתונים!$M$71),"") -> 0.14932841 | E5: =IFERROR(נתונים!$N$104*2/AVERAGE(נתונים!$H$116,נתונים!$M$116),"") -> 0.15048331 | F5: =IFERROR(נתונים!$N$149*2/AVERAGE(נתונים!$H$161,נתונים!$M$161),"") -> 0.12437862 | G5: =IFERROR(נתונים!$N$194*2/AVERAGE(נתונים!$H$206,נתונים!$M$206),"") -> 0.1440721 | I5: =IF(ISNUMBER(C5),RANK(C5,$C5:$G5,0),"") -> 4 | J5: =IF(ISNUMBER(D5),RANK(D5,$C5:$G5,0),"") -> 2 | K5: =IF(ISNUMBER(E5),RANK(E5,$C5:$G5,0),"") -> 1 | L5: =IF(ISNUMBER(F5),RANK(F5,$C5:$G5,0),"") -> 5 | M5: =IF(ISNUMBER(G5),RANK(G5,$C5:$G5,0),"") -> 3
A6: תשואה להון (2025) | B6: 0.1 | C6: =IFERROR(נתונים!$H$14*1/AVERAGE(נתונים!$G$26,נתונים!$H$26),"") -> 0.1596066 | D6: =IFERROR(נתונים!$H$59*1/AVERAGE(נתונים!$G$71,נתונים!$H$71),"") -> 0.1581348 | E6: =IFERROR(נתונים!$H$104*1/AVERAGE(נתונים!$G$116,נתונים!$H$116),"") -> 0.17045885 | F6: =IFERROR(נתונים!$H$149*1/AVERAGE(נתונים!$G$161,נתונים!$H$161),"") -> 0.12664811 | G6: =IFERROR(נתונים!$H$194*1/AVERAGE(נתונים!$G$206,נתונים!$H$206),"") -> 0.1611753 | I6: =IF(ISNUMBER(C6),RANK(C6,$C6:$G6,0),"") -> 3 | J6: =IF(ISNUMBER(D6),RANK(D6,$C6:$G6,0),"") -> 4 | K6: =IF(ISNUMBER(E6),RANK(E6,$C6:$G6,0),"") -> 1 | L6: =IF(ISNUMBER(F6),RANK(F6,$C6:$G6,0),"") -> 5 | M6: =IF(ISNUMBER(G6),RANK(G6,$C6:$G6,0),"") -> 2
A7: יחס עלות-הכנסה (H1-26) | B7: 0.15 | C7: =IFERROR(נתונים!$N$10/נתונים!$N$9,"") -> 0.3332783 | D7: =IFERROR(נתונים!$N$55/נתונים!$N$54,"") -> 0.26707044 | E7: =IFERROR(נתונים!$N$100/נתונים!$N$99,"") -> 0.35895676 | F7: =IFERROR(נתונים!$N$145/נתונים!$N$144,"") -> 0.46031264 | G7: =IFERROR(נתונים!$N$190/נתונים!$N$189,"") -> 0.47669305 | I7: =IF(ISNUMBER(C7),RANK(C7,$C7:$G7,1),"") -> 2 | J7: =IF(ISNUMBER(D7),RANK(D7,$C7:$G7,1),"") -> 1 | K7: =IF(ISNUMBER(E7),RANK(E7,$C7:$G7,1),"") -> 3 | L7: =IF(ISNUMBER(F7),RANK(F7,$C7:$G7,1),"") -> 4 | M7: =IF(ISNUMBER(G7),RANK(G7,$C7:$G7,1),"") -> 5
A8: עודף CET1 מעל הדרישה (Q2-26) | B8: 0.15 | C8: =IFERROR((נתונים!$M$34-נתונים!$M$36)/100,"") -> 0.016 | D8: =IFERROR((נתונים!$M$79-נתונים!$M$81)/100,"") -> 0.0142 | E8: =IFERROR((נתונים!$M$124-נתונים!$M$126)/100,"") -> 0.0062 | F8: =IFERROR((נתונים!$M$169-נתונים!$M$171)/100,"") -> 0.0106 | G8: =IFERROR((נתונים!$M$214-נתונים!$M$216)/100,"") -> 0.0163 | I8: =IF(ISNUMBER(C8),RANK(C8,$C8:$G8,0),"") -> 2 | J8: =IF(ISNUMBER(D8),RANK(D8,$C8:$G8,0),"") -> 3 | K8: =IF(ISNUMBER(E8),RANK(E8,$C8:$G8,0),"") -> 5 | L8: =IF(ISNUMBER(F8),RANK(F8,$C8:$G8,0),"") -> 4 | M8: =IF(ISNUMBER(G8),RANK(G8,$C8:$G8,0),"") -> 1
A9: עלות סיכון (H1-26) | B9: 0.1 | C9: =IFERROR(נתונים!$N$6*2/AVERAGE(נתונים!$H$19,נתונים!$M$19),"") -> 0.0012819328 | D9: =IFERROR(נתונים!$N$51*2/AVERAGE(נתונים!$H$64,נתונים!$M$64),"") -> 0.0016825193 | E9: =IFERROR(נתונים!$N$96*2/AVERAGE(נתונים!$H$109,נתונים!$M$109),"") -> 0.00058721687 | F9: =IFERROR(נתונים!$N$141*2/AVERAGE(נתונים!$H$154,נתונים!$M$154),"") -> 0.0016990205 | G9: =IFERROR(נתונים!$N$186*2/AVERAGE(נתונים!$H$199,נתונים!$M$199),"") -> -0.00049194919 | I9: =IF(ISNUMBER(C9),RANK(C9,$C9:$G9,1),"") -> 3 | J9: =IF(ISNUMBER(D9),RANK(D9,$C9:$G9,1),"") -> 4 | K9: =IF(ISNUMBER(E9),RANK(E9,$C9:$G9,1),"") -> 2 | L9: =IF(ISNUMBER(F9),RANK(F9,$C9:$G9,1),"") -> 5 | M9: =IF(ISNUMBER(G9),RANK(G9,$C9:$G9,1),"") -> 1
A10: צמיחת רווח נקי (H1-26 מול H1-25) | B10: 0.1 | C10: =IFERROR(נתונים!$N$14/נתונים!$K$14-1,"") -> -0.071284736 | D10: =IFERROR(נתונים!$N$59/נתונים!$K$59-1,"") -> 0.032914423 | E10: =IFERROR(נתונים!$N$104/נתונים!$K$104-1,"") -> -0.028071455 | F10: =IFERROR(נתונים!$N$149/נתונים!$K$149-1,"") -> -0.0083682008 | G10: =IFERROR(נתונים!$N$194/נתונים!$K$194-1,"") -> -0.089117395 | I10: =IF(ISNUMBER(C10),RANK(C10,$C10:$G10,0),"") -> 4 | J10: =IF(ISNUMBER(D10),RANK(D10,$C10:$G10,0),"") -> 1 | K10: =IF(ISNUMBER(E10),RANK(E10,$C10:$G10,0),"") -> 3 | L10: =IF(ISNUMBER(F10),RANK(F10,$C10:$G10,0),"") -> 2 | M10: =IF(ISNUMBER(G10),RANK(G10,$C10:$G10,0),"") -> 5
A11: צמיחת אשראי (2025) | B11: 0.1 | C11: =IFERROR(נתונים!$H$19/נתונים!$G$19-1,"") -> 0.13393524 | D11: =IFERROR(נתונים!$H$64/נתונים!$G$64-1,"") -> 0.14144525 | E11: =IFERROR(נתונים!$H$109/נתונים!$G$109-1,"") -> 0.11877725 | F11: =IFERROR(נתונים!$H$154/נתונים!$G$154-1,"") -> 0.080404172 | G11: =IFERROR(נתונים!$H$199/נתונים!$G$199-1,"") -> 0.1310348 | I11: =IF(ISNUMBER(C11),RANK(C11,$C11:$G11,0),"") -> 2 | J11: =IF(ISNUMBER(D11),RANK(D11,$C11:$G11,0),"") -> 1 | K11: =IF(ISNUMBER(E11),RANK(E11,$C11:$G11,0),"") -> 4 | L11: =IF(ISNUMBER(F11),RANK(F11,$C11:$G11,0),"") -> 5 | M11: =IF(ISNUMBER(G11),RANK(G11,$C11:$G11,0),"") -> 3
A12: יחס כיסוי נזילות (Q2-26) | B12: 0.05 | C12: =IFERROR(נתונים!$M$38/100,"") -> 1.26 | D12: =IFERROR(נתונים!$M$83/100,"") -> 1.22 | E12: =IFERROR(נתונים!$M$128/100,"") -> 1.32 | F12: =IFERROR(נתונים!$M$173/100,"") -> 1.223 | G12: =IFERROR(נתונים!$M$218/100,"") -> 1.27 | I12: =IF(ISNUMBER(C12),RANK(C12,$C12:$G12,0),"") -> 3 | J12: =IF(ISNUMBER(D12),RANK(D12,$C12:$G12,0),"") -> 5 | K12: =IF(ISNUMBER(E12),RANK(E12,$C12:$G12,0),"") -> 1 | L12: =IF(ISNUMBER(F12),RANK(F12,$C12:$G12,0),"") -> 4 | M12: =IF(ISNUMBER(G12),RANK(G12,$C12:$G12,0),"") -> 2
A13: שיעור חובות שאינם צוברים (Q2-26) | B13: 0.05 | C13: =IFERROR(נתונים!$M$31/נתונים!$M$20,"") -> 0.0050462249 | D13: =IFERROR(נתונים!$M$76/נתונים!$M$65,"") -> 0.004487222 | E13: =IFERROR(נתונים!$M$121/נתונים!$M$110,"") -> 0.008865688 | F13: =IFERROR(נתונים!$M$166/נתונים!$M$155,"") -> 0.0064700137 | G13: =IFERROR(נתונים!$M$211/נתונים!$M$200,"") -> 0.0038615918 | I13: =IF(ISNUMBER(C13),RANK(C13,$C13:$G13,1),"") -> 3 | J13: =IF(ISNUMBER(D13),RANK(D13,$C13:$G13,1),"") -> 2 | K13: =IF(ISNUMBER(E13),RANK(E13,$C13:$G13,1),"") -> 5 | L13: =IF(ISNUMBER(F13),RANK(F13,$C13:$G13,1),"") -> 4 | M13: =IF(ISNUMBER(G13),RANK(G13,$C13:$G13,1),"") -> 1
A14: סך משקלים | B14: =SUM(B5:B13) -> 1
C15: הפועלים | D15: לאומי | E15: מזרחי־טפחות | F15: דיסקונט | G15: הבינלאומי
A16: ציון משוקלל (נמוך = טוב) | C16: =IFERROR(SUMPRODUCT(I5:I13,$B$5:$B$13)/SUMPRODUCT(--ISNUMBER(I5:I13),$B$5:$B$13),"") -> 2.9 | D16: =IFERROR(SUMPRODUCT(J5:J13,$B$5:$B$13)/SUMPRODUCT(--ISNUMBER(J5:J13),$B$5:$B$13),"") -> 2.35 | E16: =IFERROR(SUMPRODUCT(K5:K13,$B$5:$B$13)/SUMPRODUCT(--ISNUMBER(K5:K13),$B$5:$B$13),"") -> 2.7 | F16: =IFERROR(SUMPRODUCT(L5:L13,$B$5:$B$13)/SUMPRODUCT(--ISNUMBER(L5:L13),$B$5:$B$13),"") -> 4.3 | G16: =IFERROR(SUMPRODUCT(M5:M13,$B$5:$B$13)/SUMPRODUCT(--ISNUMBER(M5:M13),$B$5:$B$13),"") -> 2.75
A17: מיקום כולל | C17: =IF(ISNUMBER(C16),RANK(C16,$C$16:$G$16,1),"") -> 4 | D17: =IF(ISNUMBER(D16),RANK(D16,$C$16:$G$16,1),"") -> 1 | E17: =IF(ISNUMBER(E16),RANK(E16,$C$16:$G$16,1),"") -> 2 | F17: =IF(ISNUMBER(F16),RANK(F16,$C$16:$G$16,1),"") -> 5 | G17: =IF(ISNUMBER(G16),RANK(G16,$C$16:$G$16,1),"") -> 3

Sheet רווח והפסד
A1: רווח והפסד
A2: מיליוני ש"ח. שנתי 2023–2025 ומחצית ראשונה 2025/2026 (H1). שורת ממוצע/סך מחושבת. ירוק = קישור לגיליון הנתונים.
A4: רווח נקי המיוחס לבעלי המניות
A5: בנק | B5: 2023 | C5: 2024 | D5: 2025 | E5: H1-25 | F5: H1-26
A6: הפועלים | B6: =IFERROR(נתונים!$F$14,"") -> 7360 | C6: =IFERROR(נתונים!$G$14,"") -> 7635 | D6: =IFERROR(נתונים!$H$14,"") -> 9802 | E6: =IFERROR(נתונים!$K$14,"") -> 4966 | F6: =IFERROR(נתונים!$N$14,"") -> 4612
A7: לאומי | B7: =IFERROR(נתונים!$F$59,"") -> 7027 | C7: =IFERROR(נתונים!$G$59,"") -> 9798 | D7: =IFERROR(נתונים!$H$59,"") -> 10262 | E7: =IFERROR(נתונים!$K$59,"") -> 5013 | F7: =IFERROR(נתונים!$N$59,"") -> 5178
A8: מזרחי־טפחות | B8: =IFERROR(נתונים!$F$104,"") -> 4910 | C8: =IFERROR(נתונים!$G$104,"") -> 5455 | D8: =IFERROR(נתונים!$H$104,"") -> 5630 | E8: =IFERROR(נתונים!$K$104,"") -> 2743 | F8: =IFERROR(נתונים!$N$104,"") -> 2666
A9: דיסקונט | B9: =IFERROR(נתונים!$F$149,"") -> 4192 | C9: =IFERROR(נתונים!$G$149,"") -> 4281 | D9: =IFERROR(נתונים!$H$149,"") -> 4140 | E9: =IFERROR(נתונים!$K$149,"") -> 2151 | F9: =IFERROR(נתונים!$N$149,"") -> 2133
A10: הבינלאומי | B10: =IFERROR(נתונים!$F$194,"") -> 2172 | C10: =IFERROR(נתונים!$G$194,"") -> 2371 | D10: =IFERROR(נתונים!$H$194,"") -> 2260 | E10: =IFERROR(נתונים!$K$194,"") -> 1167 | F10: =IFERROR(נתונים!$N$194,"") -> 1063
A11: סך 5 הבנקים | B11: =IF(COUNT(B6:B10)<5,"",SUM(B6:B10)) -> 25661 | C11: =IF(COUNT(C6:C10)<5,"",SUM(C6:C10)) -> 29540 | D11: =IF(COUNT(D6:D10)<5,"",SUM(D6:D10)) -> 32094 | E11: =IF(COUNT(E6:E10)<5,"",SUM(E6:E10)) -> 16040 | F11: =IF(COUNT(F6:F10)<5,"",SUM(F6:F10)) -> 15652
A14: הכנסות ריבית, נטו
A15: בנק | B15: 2023 | C15: 2024 | D15: 2025 | E15: H1-25 | F15: H1-26
A16: הפועלים | B16: =IFERROR(נתונים!$F$5,"") -> 16085 | C16: =IFERROR(נתונים!$G$5,"") -> 16950 | D16: =IFERROR(נתונים!$H$5,"") -> 18103 | E16: =IFERROR(נתונים!$K$5,"") -> 9071 | F16: =IFERROR(נתונים!$N$5,"") -> 9060
A17: לאומי | B17: =IFERROR(נתונים!$F$50,"") -> 15997 | C17: =IFERROR(נתונים!$G$50,"") -> 16509 | D17: =IFERROR(נתונים!$H$50,"") -> 16852 | E17: =IFERROR(נתונים!$K$50,"") -> 8557 | F17: =IFERROR(נתונים!$N$50,"") -> 8481
A18: מזרחי־טפחות | B18: =IFERROR(נתונים!$F$95,"") -> 11975 | C18: =IFERROR(נתונים!$G$95,"") -> 11814 | D18: =IFERROR(נתונים!$H$95,"") -> 11727 | E18: =IFERROR(נתונים!$K$95,"") -> 5892 | F18: =IFERROR(נתונים!$N$95,"") -> 5705
A19: דיסקונט | B19: =IFERROR(נתונים!$F$140,"") -> 10110 | C19: =IFERROR(נתונים!$G$140,"") -> 9929 | D19: =IFERROR(נתונים!$H$140,"") -> 10001 | E19: =IFERROR(נתונים!$K$140,"") -> 5075 | F19: =IFERROR(נתונים!$N$140,"") -> 4852
A20: הבינלאומי | B20: =IFERROR(נתונים!$F$185,"") -> 4966 | C20: =IFERROR(נתונים!$G$185,"") -> 4740 | D20: =IFERROR(נתונים!$H$185,"") -> 4822 | E20: =IFERROR(נתונים!$K$185,"") -> 2444 | F20: =IFERROR(נתונים!$N$185,"") -> 2282
A21: סך 5 הבנקים | B21: =IF(COUNT(B16:B20)<5,"",SUM(B16:B20)) -> 59133 | C21: =IF(COUNT(C16:C20)<5,"",SUM(C16:C20)) -> 59942 | D21: =IF(COUNT(D16:D20)<5,"",SUM(D16:D20)) -> 61505 | E21: =IF(COUNT(E16:E20)<5,"",SUM(E16:E20)) -> 31039 | F21: =IF(COUNT(F16:F20)<5,"",SUM(F16:F20)) -> 30380
A24: הכנסות שאינן מריבית
A25: בנק | B25: 2023 | C25: 2024 | D25: 2025 | E25: H1-25 | F25: H1-26
A26: הפועלים | B26: =IFERROR(נתונים!$F$7,"") -> 5297 | C26: =IFERROR(נתונים!$G$7,"") -> 5010 | D26: =IFERROR(נתונים!$H$7,"") -> 6453 | E26: =IFERROR(נתונים!$K$7,"") -> 3064 | F26: =IFERROR(נתונים!$N$7,"") -> 3053
A27: לאומי | B27: =IFERROR(נתונים!$F$52,"") -> 5181 | C27: =IFERROR(נתונים!$G$52,"") -> 6599 | D27: =IFERROR(נתונים!$H$52,"") -> 5828 | E27: =IFERROR(נתונים!$K$52,"") -> 2814 | F27: =IFERROR(נתונים!$N$52,"") -> 3572
A28: מזרחי־טפחות | B28: =IFERROR(נתונים!$F$97,"") -> 2805 | C28: =IFERROR(נתונים!$G$97,"") -> 2907 | D28: =IFERROR(נתונים!$H$97,"") -> 2861 | E28: =IFERROR(נתונים!$K$97,"") -> 1445 | F28: =IFERROR(נתונים!$N$97,"") -> 1580
A29: דיסקונט | B29: =IFERROR(נתונים!$F$142,"") -> 3243 | C29: =IFERROR(נתונים!$G$142,"") -> 3302 | D29: =IFERROR(נתונים!$H$142,"") -> 3313 | E29: =IFERROR(נתונים!$K$142,"") -> 1664 | F29: =IFERROR(נתונים!$N$142,"") -> 1737
A30: הבינלאומי | B30: =IFERROR(נתונים!$F$187,"") -> 1652 | C30: =IFERROR(נתונים!$G$187,"") -> 2006 | D30: =IFERROR(נתונים!$H$187,"") -> 2100 | E30: =IFERROR(נתונים!$K$187,"") -> 1065 | F30: =IFERROR(נתונים!$N$187,"") -> 1129
A31: סך 5 הבנקים | B31: =IF(COUNT(B26:B30)<5,"",SUM(B26:B30)) -> 18178 | C31: =IF(COUNT(C26:C30)<5,"",SUM(C26:C30)) -> 19824 | D31: =IF(COUNT(D26:D30)<5,"",SUM(D26:D30)) -> 20555 | E31: =IF(COUNT(E26:E30)<5,"",SUM(E26:E30)) -> 10052 | F31: =IF(COUNT(F26:F30)<5,"",SUM(F26:F30)) -> 11071
A34: עמלות
A35: בנק | B35: 2023 | C35: 2024 | D35: 2025 | E35: H1-25 | F35: H1-26
A36: הפועלים | B36: =IFERROR(נתונים!$F$8,"") -> 3892 | C36: =IFERROR(נתונים!$G$8,"") -> 3980 | D36: =IFERROR(נתונים!$H$8,"") -> 4431 | E36: =IFERROR(נתונים!$K$8,"") -> 2205 | F36: =IFERROR(נתונים!$N$8,"") -> 2260
A37: לאומי | B37: =IFERROR(נתונים!$F$53,"") -> 3737 | C37: =IFERROR(נתונים!$G$53,"") -> 3823 | D37: =IFERROR(נתונים!$H$53,"") -> 4084 | E37: =IFERROR(נתונים!$K$53,"") -> 2035 | F37: =IFERROR(נתונים!$N$53,"") -> 2171
A38: מזרחי־טפחות | B38: =IFERROR(נתונים!$F$98,"") -> 2028 | C38: =IFERROR(נתונים!$G$98,"") -> 2060 | D38: =IFERROR(נתונים!$H$98,"") -> 2251 | E38: =IFERROR(נתונים!$K$98,"") -> 1123 | F38: =IFERROR(נתונים!$N$98,"") -> 1183
A39: דיסקונט | B39: =IFERROR(נתונים!$F$143,"") -> 1909 | C39: =IFERROR(נתונים!$G$143,"") -> 1922 | D39: =IFERROR(נתונים!$H$143,"") -> 2156 | E39: =IFERROR(נתונים!$K$143,"") -> 1044 | F39: =IFERROR(נתונים!$N$143,"") -> 1156
A40: הבינלאומי | B40: =IFERROR(נתונים!$F$188,"") -> 1502 | C40: =IFERROR(נתונים!$G$188,"") -> 1553 | D40: =IFERROR(נתונים!$H$188,"") -> 1777 | E40: =IFERROR(נתונים!$K$188,"") -> 859 | F40: =IFERROR(נתונים!$N$188,"") -> 937
A41: סך 5 הבנקים | B41: =IF(COUNT(B36:B40)<5,"",SUM(B36:B40)) -> 13068 | C41: =IF(COUNT(C36:C40)<5,"",SUM(C36:C40)) -> 13338 | D41: =IF(COUNT(D36:D40)<5,"",SUM(D36:D40)) -> 14699 | E41: =IF(COUNT(E36:E40)<5,"",SUM(E36:E40)) -> 7266 | F41: =IF(COUNT(F36:F40)<5,"",SUM(F36:F40)) -> 7707
A44: סך ההכנסות (ריבית נטו + שאינן מריבית)
A45: בנק | B45: 2023 | C45: 2024 | D45: 2025 | E45: H1-25 | F45: H1-26
A46: הפועלים | B46: =IFERROR(נתונים!$F$9,"") -> 21382 | C46: =IFERROR(נתונים!$G$9,"") -> 21960 | D46: =IFERROR(נתונים!$H$9,"") -> 24556 | E46: =IFERROR(נתונים!$K$9,"") -> 12135 | F46: =IFERROR(נתונים!$N$9,"") -> 12113
A47: לאומי | B47: =IFERROR(נתונים!$F$54,"") -> 21178 | C47: =IFERROR(נתונים!$G$54,"") -> 23108 | D47: =IFERROR(נתונים!$H$54,"") -> 22680 | E47: =IFERROR(נתונים!$K$54,"") -> 11371 | F47: =IFERROR(נתונים!$N$54,"") -> 12053
A48: מזרחי־טפחות | B48: =IFERROR(נתונים!$F$99,"") -> 14780 | C48: =IFERROR(נתונים!$G$99,"") -> 14721 | D48: =IFERROR(נתונים!$H$99,"") -> 14588 | E48: =IFERROR(נתונים!$K$99,"") -> 7337 | F48: =IFERROR(נתונים!$N$99,"") -> 7285
A49: דיסקונט | B49: =IFERROR(נתונים!$F$144,"") -> 13353 | C49: =IFERROR(נתונים!$G$144,"") -> 13231 | D49: =IFERROR(נתונים!$H$144,"") -> 13314 | E49: =IFERROR(נתונים!$K$144,"") -> 6739 | F49: =IFERROR(נתונים!$N$144,"") -> 6589
...

Sheet מאזן
A1: מאזן
A2: יתרות לסוף תקופה, מיליוני ש"ח.
A4: סך הנכסים
A5: בנק | B5: 2023 | C5: 2024 | D5: 2025 | E5: Q1-26 | F5: Q2-26
A6: הפועלים | B6: =IFERROR(נתונים!$F$18,"") -> 686530 | C6: =IFERROR(נתונים!$G$18,"") -> 720844 | D6: =IFERROR(נתונים!$H$18,"") -> 766665 | E6: =IFERROR(נתונים!$L$18,"") -> 797234 | F6: =IFERROR(נתונים!$M$18,"") -> 809471
A7: לאומי | B7: =IFERROR(נתונים!$F$63,"") -> 731497 | C7: =IFERROR(נתונים!$G$63,"") -> 785551 | D7: =IFERROR(נתונים!$H$63,"") -> 872971 | E7: =IFERROR(נתונים!$L$63,"") -> 903887 | F7: =IFERROR(נתונים!$M$63,"") -> 947264
A8: מזרחי־טפחות | B8: =IFERROR(נתונים!$F$108,"") -> 448204 | C8: =IFERROR(נתונים!$G$108,"") -> 485643 | D8: =IFERROR(נתונים!$H$108,"") -> 551173 | E8: =IFERROR(נתונים!$L$108,"") -> 554365 | F8: =IFERROR(נתונים!$M$108,"") -> 580815
A9: דיסקונט | B9: =IFERROR(נתונים!$F$153,"") -> 400475 | C9: =IFERROR(נתונים!$G$153,"") -> 442659 | D9: =IFERROR(נתונים!$H$153,"") -> 478146 | E9: =IFERROR(נתונים!$L$153,"") -> 477114 | F9: =IFERROR(נתונים!$M$153,"") -> 483460
A10: הבינלאומי | B10: =IFERROR(נתונים!$F$198,"") -> 221593 | C10: =IFERROR(נתונים!$G$198,"") -> 248563 | D10: =IFERROR(נתונים!$H$198,"") -> 277833 | E10: =IFERROR(נתונים!$L$198,"") -> 272602 | F10: =IFERROR(נתונים!$M$198,"") -> 293955
A11: סך 5 הבנקים | B11: =IF(COUNT(B6:B10)<5,"",SUM(B6:B10)) -> 2488299 | C11: =IF(COUNT(C6:C10)<5,"",SUM(C6:C10)) -> 2683260 | D11: =IF(COUNT(D6:D10)<5,"",SUM(D6:D10)) -> 2946788 | E11: =IF(COUNT(E6:E10)<5,"",SUM(E6:E10)) -> 3005202 | F11: =IF(COUNT(F6:F10)<5,"",SUM(F6:F10)) -> 3114965
A14: אשראי לציבור, נטו
A15: בנק | B15: 2023 | C15: 2024 | D15: 2025 | E15: Q1-26 | F15: Q2-26
A16: הפועלים | B16: =IFERROR(נתונים!$F$19,"") -> 407381 | C16: =IFERROR(נתונים!$G$19,"") -> 443483 | D16: =IFERROR(נתונים!$H$19,"") -> 502881 | E16: =IFERROR(נתונים!$L$19,"") -> 519267 | F16: =IFERROR(נתונים!$M$19,"") -> 536175
A17: לאומי | B17: =IFERROR(נתונים!$F$64,"") -> 419486 | C17: =IFERROR(נתונים!$G$64,"") -> 455519 | D17: =IFERROR(נתונים!$H$64,"") -> 519950 | E17: =IFERROR(נתונים!$L$64,"") -> 547780 | F17: =IFERROR(נתונים!$M$64,"") -> 566516
A18: מזרחי־טפחות | B18: =IFERROR(נתונים!$F$109,"") -> 325346 | C18: =IFERROR(נתונים!$G$109,"") -> 357981 | D18: =IFERROR(נתונים!$H$109,"") -> 400501 | E18: =IFERROR(נתונים!$L$109,"") -> 413574 | F18: =IFERROR(נתונים!$M$109,"") -> 423726
A19: דיסקונט | B19: =IFERROR(נתונים!$F$154,"") -> 247413 | C19: =IFERROR(נתונים!$G$154,"") -> 267312 | D19: =IFERROR(נתונים!$H$154,"") -> 288805 | E19: =IFERROR(נתונים!$L$154,"") -> 295195 | F19: =IFERROR(נתונים!$M$154,"") -> 304478
A20: הבינלאומי | B20: =IFERROR(נתונים!$F$199,"") -> 117622 | C20: =IFERROR(נתונים!$G$199,"") -> 129416 | D20: =IFERROR(נתונים!$H$199,"") -> 146374 | E20: =IFERROR(נתונים!$L$199,"") -> 153482 | F20: =IFERROR(נתונים!$M$199,"") -> 162601
A21: סך 5 הבנקים | B21: =IF(COUNT(B16:B20)<5,"",SUM(B16:B20)) -> 1517248 | C21: =IF(COUNT(C16:C20)<5,"",SUM(C16:C20)) -> 1653711 | D21: =IF(COUNT(D16:D20)<5,"",SUM(D16:D20)) -> 1858511 | E21: =IF(COUNT(E16:E20)<5,"",SUM(E16:E20)) -> 1929298 | F21: =IF(COUNT(F16:F20)<5,"",SUM(F16:F20)) -> 1993496
A24: פיקדונות הציבור
A25: בנק | B25: 2023 | C25: 2024 | D25: 2025 | E25: Q1-26 | F25: Q2-26
A26: הפועלים | B26: =IFERROR(נתונים!$F$22,"") -> 554595 | C26: =IFERROR(נתונים!$G$22,"") -> 574285 | D26: =IFERROR(נתונים!$H$22,"") -> 592676 | E26: =IFERROR(נתונים!$L$22,"") -> 602807 | F26: =IFERROR(נתונים!$M$22,"") -> 618116
A27: לאומי | B27: =IFERROR(נתונים!$F$67,"") -> 567824 | C27: =IFERROR(נתונים!$G$67,"") -> 618301 | D27: =IFERROR(נתונים!$H$67,"") -> 686887 | E27: =IFERROR(נתונים!$L$67,"") -> 694961 | F27: =IFERROR(נתונים!$M$67,"") -> 718887
A28: מזרחי־טפחות | B28: =IFERROR(נתונים!$F$112,"") -> 358553 | C28: =IFERROR(נתונים!$G$112,"") -> 393383 | D28: =IFERROR(נתונים!$H$112,"") -> 448397 | E28: =IFERROR(נתונים!$L$112,"") -> 450663 | F28: =IFERROR(נתונים!$M$112,"") -> 474424
A29: דיסקונט | B29: =IFERROR(נתונים!$F$157,"") -> 297643 | C29: =IFERROR(נתונים!$G$157,"") -> 332443 | D29: =IFERROR(נתונים!$H$157,"") -> 359480 | E29: =IFERROR(נתונים!$L$157,"") -> 356851 | F29: =IFERROR(נתונים!$M$157,"") -> 361422
A30: הבינלאומי | B30: =IFERROR(נתונים!$F$202,"") -> 191125 | C30: =IFERROR(נתונים!$G$202,"") -> 214755 | D30: =IFERROR(נתונים!$H$202,"") -> 238509 | E30: =IFERROR(נתונים!$L$202,"") -> 231580 | F30: =IFERROR(נתונים!$M$202,"") -> 251394
A31: סך 5 הבנקים | B31: =IF(COUNT(B26:B30)<5,"",SUM(B26:B30)) -> 1969740 | C31: =IF(COUNT(C26:C30)<5,"",SUM(C26:C30)) -> 2133167 | D31: =IF(COUNT(D26:D30)<5,"",SUM(D26:D30)) -> 2325949 | E31: =IF(COUNT(E26:E30)<5,"",SUM(E26:E30)) -> 2336862 | F31: =IF(COUNT(F26:F30)<5,"",SUM(F26:F30)) -> 2424243
A34: הון המיוחס לבעלי המניות
A35: בנק | B35: 2023 | C35: 2024 | D35: 2025 | E35: Q1-26 | F35: Q2-26
A36: הפועלים | B36: =IFERROR(נתונים!$F$26,"") -> 52430 | C36: =IFERROR(נתונים!$G$26,"") -> 58150 | D36: =IFERROR(נתונים!$H$26,"") -> 64677 | E36: =IFERROR(נתונים!$L$26,"") -> 65547 | F36: =IFERROR(נתונים!$M$26,"") -> 67144
A37: לאומי | B37: =IFERROR(נתונים!$F$71,"") -> 54497 | C37: =IFERROR(נתונים!$G$71,"") -> 61658 | D37: =IFERROR(נתונים!$H$71,"") -> 68130 | E37: =IFERROR(נתונים!$L$71,"") -> 68867 | F37: =IFERROR(נתונים!$M$71,"") -> 70571
A38: מזרחי־טפחות | B38: =IFERROR(נתונים!$F$116,"") -> 27461 | C38: =IFERROR(נתונים!$G$116,"") -> 31292 | D38: =IFERROR(נתונים!$H$116,"") -> 34765 | E38: =IFERROR(נתונים!$L$116,"") -> 35246 | F38: =IFERROR(נתונים!$M$116,"") -> 36100
A39: דיסקונט | B39: =IFERROR(נתונים!$F$161,"") -> 28474 | C39: =IFERROR(נתונים!$G$161,"") -> 31569 | D39: =IFERROR(נתונים!$H$161,"") -> 33809 | E39: =IFERROR(נתונים!$L$161,"") -> 34153 | F39: =IFERROR(נתונים!$M$161,"") -> 34788
A40: הבינלאומי | B40: =IFERROR(נתונים!$F$206,"") -> 12071 | C40: =IFERROR(נתונים!$G$206,"") -> 13430 | D40: =IFERROR(נתונים!$H$206,"") -> 14614 | E40: =IFERROR(נתונים!$L$206,"") -> 14465 | F40: =IFERROR(נתונים!$M$206,"") -> 14899
A41: סך 5 הבנקים | B41: =IF(COUNT(B36:B40)<5,"",SUM(B36:B40)) -> 174933 | C41: =IF(COUNT(C36:C40)<5,"",SUM(C36:C40)) -> 196099 | D41: =IF(COUNT(D36:D40)<5,"",SUM(D36:D40)) -> 215995 | E41: =IF(COUNT(E36:E40)<5,"",SUM(E36:E40)) -> 218278 | F41: =IF(COUNT(F36:F40)<5,"",SUM(F36:F40)) -> 223502
A44: ניירות ערך
A45: בנק | B45: 2023 | C45: 2024 | D45: 2025 | E45: Q1-26 | F45: Q2-26
A46: הפועלים | B46: =IFERROR(נתונים!$F$23,"") -> 127122 | C46: =IFERROR(נתונים!$G$23,"") -> 121838 | D46: =IFERROR(נתונים!$H$23,"") -> 144245 | E46: =IFERROR(נתונים!$L$23,"") -> 145315 | F46: =IFERROR(נתונים!$M$23,"") -> 155090
A47: לאומי | B47: =IFERROR(נתונים!$F$68,"") -> 160048 | C47: =IFERROR(נתונים!$G$68,"") -> 124101 | D47: =IFERROR(נתונים!$H$68,"") -> 148120 | E47: =IFERROR(נתונים!$L$68,"") -> 168625 | F47: =IFERROR(נתונים!$M$68,"") -> 186519
A48: מזרחי־טפחות | B48: =IFERROR(נתונים!$F$113,"") -> 23071 | C48: =IFERROR(נתונים!$G$113,"") -> 28491 | D48: =IFERROR(נתונים!$H$113,"") -> 47903 | E48: =IFERROR(נתונים!$L$113,"") -> 45600 | F48: =IFERROR(נתונים!$M$113,"") -> 56459
A49: דיסקונט | B49: =IFERROR(נתונים!$F$158,"") -> 59251 | C49: =IFERROR(נתונים!$G$158,"") -> 67627 | D49: =IFERROR(נתונים!$H$158,"") -> 78632 | E49: =IFERROR(נתונים!$L$158,"") -> 80574 | F49: =IFERROR(נתונים!$M$158,"") -> 79790
...

Sheet רווחיות
A1: רווחיות
A2: יחסים מחושבים מהנתונים. תקופות חלקיות (H1) מתוקננות לשנה (×2). ממוצע יתרות = (פתיחה+סגירה)/2. ROE מדווח — כפי שפרסם הבנק.
A4: תשואה להון — מחושב (רווח נקי / הון ממוצע)
A5: בנק | B5: 2023 | C5: 2024 | D5: 2025 | E5: H1-25 | F5: H1-26
A6: הפועלים | B6: =IFERROR(נתונים!$F$14*1/AVERAGE(נתונים!$E$26,נתונים!$F$26),"") -> 0.14878907 | C6: =IFERROR(נתונים!$G$14*1/AVERAGE(נתונים!$F$26,נתונים!$G$26),"") -> 0.13809007 | D6: =IFERROR(נתונים!$H$14*1/AVERAGE(נתונים!$G$26,נתונים!$H$26),"") -> 0.1596066 | E6: =IFERROR(נתונים!$K$14*2/AVERAGE(נתונים!$G$26,נתונים!$J$26),"") -> 0.1651576 | F6: =IFERROR(נתונים!$N$14*2/AVERAGE(נתונים!$H$26,נתונים!$M$26),"") -> 0.13994735
A7: לאומי | B7: =IFERROR(נתונים!$F$59*1/AVERAGE(נתונים!$E$71,נתונים!$F$71),"") -> 0.13521913 | C7: =IFERROR(נתונים!$G$59*1/AVERAGE(נתונים!$F$71,נתונים!$G$71),"") -> 0.16870561 | D7: =IFERROR(נתונים!$H$59*1/AVERAGE(נתונים!$G$71,נתונים!$H$71),"") -> 0.1581348 | E7: =IFERROR(נתונים!$K$59*2/AVERAGE(נתונים!$G$71,נתונים!$J$71),"") -> 0.15765019 | F7: =IFERROR(נתונים!$N$59*2/AVERAGE(נתונים!$H$71,נתונים!$M$71),"") -> 0.14932841
A8: מזרחי־טפחות | B8: =IFERROR(נתונים!$F$104*1/AVERAGE(נתונים!$E$116,נתונים!$F$116),"") -> 0.19164341 | C8: =IFERROR(נתונים!$G$104*1/AVERAGE(נתונים!$F$116,נתונים!$G$116),"") -> 0.18569265 | D8: =IFERROR(נתונים!$H$104*1/AVERAGE(נתונים!$G$116,נתונים!$H$116),"") -> 0.17045885 | E8: =IFERROR(נתונים!$K$104*2/AVERAGE(נתונים!$G$116,נתונים!$J$116),"") -> 0.1703568 | F8: =IFERROR(נתונים!$N$104*2/AVERAGE(נתונים!$H$116,נתונים!$M$116),"") -> 0.15048331
A9: דיסקונט | B9: =IFERROR(נתונים!$F$149*1/AVERAGE(נתונים!$E$161,נתונים!$F$161),"") -> 0.15713911 | C9: =IFERROR(נתונים!$G$149*1/AVERAGE(נתונים!$F$161,נתונים!$G$161),"") -> 0.1425978 | D9: =IFERROR(נתונים!$H$149*1/AVERAGE(נתונים!$G$161,נתונים!$H$161),"") -> 0.12664811 | E9: =IFERROR(נתונים!$K$149*2/AVERAGE(נתונים!$G$161,נתונים!$J$161),"") -> 0.13351127 | F9: =IFERROR(נתונים!$N$149*2/AVERAGE(נתונים!$H$161,נתונים!$M$161),"") -> 0.12437862
A10: הבינלאומי | B10: =IFERROR(נתונים!$F$194*1/AVERAGE(נתונים!$E$206,נתונים!$F$206),"") -> 0.19195758 | C10: =IFERROR(נתונים!$G$194*1/AVERAGE(נתונים!$F$206,נתונים!$G$206),"") -> 0.18595349 | D10: =IFERROR(נתונים!$H$194*1/AVERAGE(נתונים!$G$206,נתונים!$H$206),"") -> 0.1611753 | E10: =IFERROR(נתונים!$K$194*2/AVERAGE(נתונים!$G$206,נתונים!$J$206),"") -> 0.16859289 | F10: =IFERROR(נתונים!$N$194*2/AVERAGE(נתונים!$H$206,נתונים!$M$206),"") -> 0.1440721
A11: ממוצע 5 הבנקים | B11: =IF(COUNT(B6:B10)=0,"",AVERAGE(B6:B10)) -> 0.16494966 | C11: =IF(COUNT(C6:C10)=0,"",AVERAGE(C6:C10)) -> 0.16420792 | D11: =IF(COUNT(D6:D10)=0,"",AVERAGE(D6:D10)) -> 0.15520473 | E11: =IF(COUNT(E6:E10)=0,"",AVERAGE(E6:E10)) -> 0.15905375 | F11: =IF(COUNT(F6:F10)=0,"",AVERAGE(F6:F10)) -> 0.14164196
A14: תשואה להון — מדווח
A15: בנק | B15: 2023 | C15: 2024 | D15: 2025 | E15: H1-25 | F15: H1-26
A16: הפועלים | B16: =IFERROR(נתונים!$F$32/100,"") -> 0.15 | C16: =IFERROR(נתונים!$G$32/100,"") -> 0.138 | D16: =IFERROR(נתונים!$H$32/100,"") -> 0.159 | E16: =IFERROR(נתונים!$K$32/100,"") -> 0.165 | F16: =IFERROR(נתונים!$N$32/100,"") -> 0.14
A17: לאומי | B17: =IFERROR(נתונים!$F$77/100,"") -> 0.137 | C17: =IFERROR(נתונים!$G$77/100,"") -> 0.169 | D17: =IFERROR(נתונים!$H$77/100,"") -> 0.158 | E17: =IFERROR(נתונים!$K$77/100,"") -> 0.158 | F17: =IFERROR(נתונים!$N$77/100,"") -> 0.149
A18: מזרחי־טפחות | B18: =IFERROR(נתונים!$F$122/100,"") -> 0.191 | C18: =IFERROR(נתונים!$G$122/100,"") -> 0.185 | D18: =IFERROR(נתונים!$H$122/100,"") -> 0.17 | E18: =IFERROR(נתונים!$K$122/100,"") -> 0.17 | F18: =IFERROR(נתונים!$N$122/100,"") -> 0.15
A19: דיסקונט | B19: =IFERROR(נתונים!$F$167/100,"") -> 0.157 | C19: =IFERROR(נתונים!$G$167/100,"") -> 0.142 | D19: =IFERROR(נתונים!$H$167/100,"") -> 0.126 | E19: =IFERROR(נתונים!$K$167/100,"") -> 0.133 | F19: =IFERROR(נתונים!$N$167/100,"") -> 0.124
A20: הבינלאומי | B20: =IFERROR(נתונים!$F$212/100,"") -> 0.197 | C20: =IFERROR(נתונים!$G$212/100,"") -> 0.19 | D20: =IFERROR(נתונים!$H$212/100,"") -> 0.162 | E20: =IFERROR(נתונים!$K$212/100,"") -> 0.171 | F20: =IFERROR(נתונים!$N$212/100,"") -> 0.145
A21: ממוצע 5 הבנקים | B21: =IF(COUNT(B16:B20)=0,"",AVERAGE(B16:B20)) -> 0.1664 | C21: =IF(COUNT(C16:C20)=0,"",AVERAGE(C16:C20)) -> 0.1648 | D21: =IF(COUNT(D16:D20)=0,"",AVERAGE(D16:D20)) -> 0.155 | E21: =IF(COUNT(E16:E20)=0,"",AVERAGE(E16:E20)) -> 0.1594 | F21: =IF(COUNT(F16:F20)=0,"",AVERAGE(F16:F20)) -> 0.1416
A24: תשואה לנכסים (ROA) — מחושב
A25: בנק | B25: 2023 | C25: 2024 | D25: 2025 | E25: H1-25 | F25: H1-26
A26: הפועלים | B26: =IFERROR(נתונים!$F$14*1/AVERAGE(נתונים!$E$18,נתונים!$F$18),"") -> 0.010888516 | C26: =IFERROR(נתונים!$G$14*1/AVERAGE(נתונים!$F$18,נתונים!$G$18),"") -> 0.010849994 | D26: =IFERROR(נתונים!$H$14*1/AVERAGE(נתונים!$G$18,נתונים!$H$18),"") -> 0.01317908 | E26: =IFERROR(נתונים!$K$14*2/AVERAGE(נתונים!$G$18,נתונים!$J$18),"") -> 0.013431341 | F26: =IFERROR(נתונים!$N$14*2/AVERAGE(נתונים!$H$18,נתונים!$M$18),"") -> 0.011704574
A27: לאומי | B27: =IFERROR(נתונים!$F$59*1/AVERAGE(נתונים!$E$63,נתונים!$F$63),"") -> 0.0098234175 | C27: =IFERROR(נתונים!$G$59*1/AVERAGE(נתונים!$F$63,נתונים!$G$63),"") -> 0.012917192 | D27: =IFERROR(נתונים!$H$59*1/AVERAGE(נתונים!$G$63,נתונים!$H$63),"") -> 0.012374874 | E27: =IFERROR(נתונים!$K$59*2/AVERAGE(נתונים!$G$63,נתונים!$J$63),"") -> 0.012302716 | F27: =IFERROR(נתונים!$N$59*2/AVERAGE(נתונים!$H$63,נתונים!$M$63),"") -> 0.011378751
A28: מזרחי־טפחות | B28: =IFERROR(נתונים!$F$104*1/AVERAGE(נתונים!$E$108,נתונים!$F$108),"") -> 0.011203702 | C28: =IFERROR(נתונים!$G$104*1/AVERAGE(נתונים!$F$108,נתונים!$G$108),"") -> 0.011682856 | D28: =IFERROR(נתונים!$H$104*1/AVERAGE(נתונים!$G$108,נתונים!$H$108),"") -> 0.010860172 | E28: =IFERROR(נתונים!$K$104*2/AVERAGE(נתונים!$G$108,נתונים!$J$108),"") -> 0.010939946 | F28: =IFERROR(נתונים!$N$104*2/AVERAGE(נתונים!$H$108,נתונים!$M$108),"") -> 0.0094205946
A29: דיסקונט | B29: =IFERROR(נתונים!$F$149*1/AVERAGE(נתונים!$E$153,נתונים!$F$153),"") -> 0.010703871 | C29: =IFERROR(נתונים!$G$149*1/AVERAGE(נתונים!$F$153,נתונים!$G$153),"") -> 0.010154969 | D29: =IFERROR(נתונים!$H$149*1/AVERAGE(נתונים!$G$153,נתונים!$H$153),"") -> 0.0089921319 | E29: =IFERROR(נתונים!$K$149*2/AVERAGE(נתונים!$G$153,נתונים!$J$153),"") -> 0.009521238 | F29: =IFERROR(נתונים!$N$149*2/AVERAGE(נתונים!$H$153,נתונים!$M$153),"") -> 0.0088726568
A30: הבינלאומי | B30: =IFERROR(נתונים!$F$194*1/AVERAGE(נתונים!$E$198,נתונים!$F$198),"") -> 0.010403594 | C30: =IFERROR(נתונים!$G$194*1/AVERAGE(נתונים!$F$198,נתונים!$G$198),"") -> 0.010086014 | D30: =IFERROR(נתונים!$H$194*1/AVERAGE(נתונים!$G$198,נתונים!$H$198),"") -> 0.0085866914 | E30: =IFERROR(נתונים!$K$194*2/AVERAGE(נתונים!$G$198,נתונים!$J$198),"") -> 0.0091337782 | F30: =IFERROR(נתונים!$N$194*2/AVERAGE(נתונים!$H$198,נתונים!$M$198),"") -> 0.0074363226
A31: ממוצע 5 הבנקים | B31: =IF(COUNT(B26:B30)=0,"",AVERAGE(B26:B30)) -> 0.01060462 | C31: =IF(COUNT(C26:C30)=0,"",AVERAGE(C26:C30)) -> 0.011138205 | D31: =IF(COUNT(D26:D30)=0,"",AVERAGE(D26:D30)) -> 0.01079859 | E31: =IF(COUNT(E26:E30)=0,"",AVERAGE(E26:E30)) -> 0.011065804 | F31: =IF(COUNT(F26:F30)=0,"",AVERAGE(F26:F30)) -> 0.0097625796
A34: מכפיל מינוף (נכסים ממוצעים / הון ממוצע) — DuPont
A35: בנק | B35: 2023 | C35: 2024 | D35: 2025 | E35: H1-25 | F35: H1-26
A36: הפועלים | B36: =IFERROR(AVERAGE(נתונים!$E$18,נתונים!$F$18)/AVERAGE(נתונים!$E$26,נתונים!$F$26),"") -> 13.66477 | C36: =IFERROR(AVERAGE(נתונים!$F$18,נתונים!$G$18)/AVERAGE(נתונים!$F$26,נתונים!$G$26),"") -> 12.727202 | D36: =IFERROR(AVERAGE(נתונים!$G$18,נתונים!$H$18)/AVERAGE(נתונים!$G$26,נתונים!$H$26),"") -> 12.110603 | E36: =IFERROR(AVERAGE(נתונים!$G$18,נתונים!$J$18)/AVERAGE(נתונים!$G$26,נתונים!$J$26),"") -> 12.296434 | F36: =IFERROR(AVERAGE(נתונים!$H$18,נתונים!$M$18)/AVERAGE(נתונים!$H$26,נתונים!$M$26),"") -> 11.956638
A37: לאומי | B37: =IFERROR(AVERAGE(נתונים!$E$63,נתונים!$F$63)/AVERAGE(נתונים!$E$71,נתונים!$F$71),"") -> 13.764978 | C37: =IFERROR(AVERAGE(נתונים!$F$63,נתונים!$G$63)/AVERAGE(נתונים!$F$71,נתונים!$G$71),"") -> 13.060548 | D37: =IFERROR(AVERAGE(נתונים!$G$63,נתונים!$H$63)/AVERAGE(נתונים!$G$71,נתונים!$H$71),"") -> 12.778701 | E37: =IFERROR(AVERAGE(נתונים!$G$63,נתונים!$J$63)/AVERAGE(נתונים!$G$71,נתונים!$J$71),"") -> 12.814259 | F37: =IFERROR(AVERAGE(נתונים!$H$63,נתונים!$M$63)/AVERAGE(נתונים!$H$71,נתונים!$M$71),"") -> 13.123445
A38: מזרחי־טפחות | B38: =IFERROR(AVERAGE(נתונים!$E$108,נתונים!$F$108)/AVERAGE(נתונים!$E$116,נתונים!$F$116),"") -> 17.105365 | C38: =IFERROR(AVERAGE(נתונים!$F$108,נתונים!$G$108)/AVERAGE(נתונים!$F$116,נתונים!$G$116),"") -> 15.894456 | D38: =IFERROR(AVERAGE(נתונים!$G$108,נתונים!$H$108)/AVERAGE(נתונים!$G$116,נתונים!$H$116),"") -> 15.695778 | E38: =IFERROR(AVERAGE(נתונים!$G$108,נתונים!$J$108)/AVERAGE(נתונים!$G$116,נתונים!$J$116),"") -> 15.571996 | F38: =IFERROR(AVERAGE(נתונים!$H$108,נתונים!$M$108)/AVERAGE(נתונים!$H$116,נתונים!$M$116),"") -> 15.973866
A39: דיסקונט | B39: =IFERROR(AVERAGE(נתונים!$E$153,נתונים!$F$153)/AVERAGE(נתונים!$E$161,נתונים!$F$161),"") -> 14.680586 | C39: =IFERROR(AVERAGE(נתונים!$F$153,נתונים!$G$153)/AVERAGE(נתונים!$F$161,נתונים!$G$161),"") -> 14.04217 | D39: =IFERROR(AVERAGE(נתונים!$G$153,נתונים!$H$153)/AVERAGE(נתונים!$G$161,נתונים!$H$161),"") -> 14.084325 | E39: =IFERROR(AVERAGE(נתונים!$G$153,נתונים!$J$153)/AVERAGE(נתונים!$G$161,נתונים!$J$161),"") -> 14.022469 | F39: =IFERROR(AVERAGE(נתונים!$H$153,נתונים!$M$153)/AVERAGE(נתונים!$H$161,נתונים!$M$161),"") -> 14.018193
A40: הבינלאומי | B40: =IFERROR(AVERAGE(נתונים!$E$198,נתונים!$F$198)/AVERAGE(נתונים!$E$206,נתונים!$F$206),"") -> 18.451083 | C40: =IFERROR(AVERAGE(נתונים!$F$198,נתונים!$G$198)/AVERAGE(נתונים!$F$206,נתונים!$G$206),"") -> 18.436767 | D40: =IFERROR(AVERAGE(נתונים!$G$198,נתונים!$H$198)/AVERAGE(נתונים!$G$206,נתונים!$H$206),"") -> 18.770361 | E40: =IFERROR(AVERAGE(נתונים!$G$198,נתונים!$J$198)/AVERAGE(נתונים!$G$206,נתונים!$J$206),"") -> 18.458177 | F40: =IFERROR(AVERAGE(נתונים!$H$198,נתונים!$M$198)/AVERAGE(נתונים!$H$206,נתונים!$M$206),"") -> 19.374106
A41: ממוצע 5 הבנקים | B41: =IF(COUNT(B36:B40)=0,"",AVERAGE(B36:B40)) -> 15.533356 | C41: =IF(COUNT(C36:C40)=0,"",AVERAGE(C36:C40)) -> 14.832229 | D41: =IF(COUNT(D36:D40)=0,"",AVERAGE(D36:D40)) -> 14.687953 | E41: =IF(COUNT(E36:E40)=0,"",AVERAGE(E36:E40)) -> 14.632667 | F41: =IF(COUNT(F36:F40)=0,"",AVERAGE(F36:F40)) -> 14.88925
A44: הכנסות ריבית נטו / נכסים ממוצעים
A45: בנק | B45: 2023 | C45: 2024 | D45: 2025 | E45: H1-25 | F45: H1-26
A46: הפועלים | B46: =IFERROR(נתונים!$F$5*1/AVERAGE(נתונים!$E$18,נתונים!$F$18),"") -> 0.023796438 | C46: =IFERROR(נתונים!$G$5*1/AVERAGE(נתונים!$F$18,נתונים!$G$18),"") -> 0.024087414 | D46: =IFERROR(נתונים!$H$5*1/AVERAGE(נתונים!$G$18,נתונים!$H$18),"") -> 0.024340021 | E46: =IFERROR(נתונים!$K$5*2/AVERAGE(נתונים!$G$18,נתונים!$J$18),"") -> 0.02453397 | F46: =IFERROR(נתונים!$N$5*2/AVERAGE(נתונים!$H$18,נתונים!$M$18),"") -> 0.02299294
A47: לאומי | B47: =IFERROR(נתונים!$F$50*1/AVERAGE(נתונים!$E$63,נתונים!$F$63),"") -> 0.022363058 | C47: =IFERROR(נתונים!$G$50*1/AVERAGE(נתונים!$F$63,נתונים!$G$63),"") -> 0.021764638 | D47: =IFERROR(נתונים!$H$50*1/AVERAGE(נתונים!$G$63,נתונים!$H$63),"") -> 0.020321708 | E47: =IFERROR(נתונים!$K$50*2/AVERAGE(נתונים!$G$63,נתונים!$J$63),"") -> 0.021000268 | F47: =IFERROR(נתונים!$N$50*2/AVERAGE(נתונים!$H$63,נתונים!$M$63),"") -> 0.018637154
A48: מזרחי־טפחות | B48: =IFERROR(נתונים!$F$95*1/AVERAGE(נתונים!$E$108,נתונים!$F$108),"") -> 0.027324711 | C48: =IFERROR(נתונים!$G$95*1/AVERAGE(נתונים!$F$108,נתונים!$G$108),"") -> 0.025301789 | D48: =IFERROR(נתונים!$H$95*1/AVERAGE(נתונים!$G$108,נתונים!$H$108),"") -> 0.022621179 | E48: =IFERROR(נתונים!$K$95*2/AVERAGE(נתונים!$G$108,נתונים!$J$108),"") -> 0.023499147 | F48: =IFERROR(נתונים!$N$95*2/AVERAGE(נתונים!$H$108,נתונים!$M$108),"") -> 0.020159224
A49: דיסקונט | B49: =IFERROR(נתונים!$F$140*1/AVERAGE(נתונים!$E$153,נתונים!$F$153),"") -> 0.025814919 | C49: =IFERROR(נתונים!$G$140*1/AVERAGE(נתונים!$F$153,נתונים!$G$153),"") -> 0.023552603 | D49: =IFERROR(נתונים!$H$140*1/AVERAGE(נתונים!$G$153,נתונים!$H$153),"") -> 0.021722297 | E49: =IFERROR(נתונים!$K$140*2/AVERAGE(נתונים!$G$153,נתונים!$J$153),"") -> 0.022464102 | F49: =IFERROR(נתונים!$N$140*2/AVERAGE(נתונים!$H$153,נתונים!$M$153),"") -> 0.020182902
...

Sheet יעילות
A1: יעילות
A2: יחס עלות-הכנסה = הוצאות תפעוליות / סך ההכנסות (נמוך = יעיל יותר).
A4: יחס עלות-הכנסה — מחושב
A5: בנק | B5: 2023 | C5: 2024 | D5: 2025 | E5: H1-25 | F5: H1-26
A6: הפועלים | B6: =IFERROR(נתונים!$F$10/נתונים!$F$9,"") -> 0.38494996 | C6: =IFERROR(נתונים!$G$10/נתונים!$G$9,"") -> 0.41015483 | D6: =IFERROR(נתונים!$H$10/נתונים!$H$9,"") -> 0.34223815 | E6: =IFERROR(נתונים!$K$10/נתונים!$K$9,"") -> 0.33803049 | F6: =IFERROR(נתונים!$N$10/נתונים!$N$9,"") -> 0.3332783
A7: לאומי | B7: =IFERROR(נתונים!$F$55/נתונים!$F$54,"") -> 0.32552649 | C7: =IFERROR(נתונים!$G$55/נתונים!$G$54,"") -> 0.29877099 | D7: =IFERROR(נתונים!$H$55/נתונים!$H$54,"") -> 0.29312169 | E7: =IFERROR(נתונים!$K$55/נתונים!$K$54,"") -> 0.29381761 | F7: =IFERROR(נתונים!$N$55/נתונים!$N$54,"") -> 0.26707044
A8: מזרחי־טפחות | B8: =IFERROR(נתונים!$F$100/נתונים!$F$99,"") -> 0.37679296 | C8: =IFERROR(נתונים!$G$100/נתונים!$G$99,"") -> 0.35473134 | D8: =IFERROR(נתונים!$H$100/נתונים!$H$99,"") -> 0.35913079 | E8: =IFERROR(נתונים!$K$100/נתונים!$K$99,"") -> 0.36281859 | F8: =IFERROR(נתונים!$N$100/נתונים!$N$99,"") -> 0.35895676
A9: דיסקונט | B9: =IFERROR(נתונים!$F$145/נתונים!$F$144,"") -> 0.45869842 | C9: =IFERROR(נתונים!$G$145/נתונים!$G$144,"") -> 0.4688988 | D9: =IFERROR(נתונים!$H$145/נתונים!$H$144,"") -> 0.492414 | E9: =IFERROR(נתונים!$K$145/נתונים!$K$144,"") -> 0.47410595 | F9: =IFERROR(נתונים!$N$145/נתונים!$N$144,"") -> 0.46031264
A10: הבינלאומי | B10: =IFERROR(נתונים!$F$190/נתונים!$F$189,"") -> 0.43472348 | C10: =IFERROR(נתונים!$G$190/נתונים!$G$189,"") -> 0.44129855 | D10: =IFERROR(נתונים!$H$190/נתונים!$H$189,"") -> 0.46084947 | E10: =IFERROR(נתונים!$K$190/נתונים!$K$189,"") -> 0.45169564 | F10: =IFERROR(נתונים!$N$190/נתונים!$N$189,"") -> 0.47669305
A11: ממוצע 5 הבנקים | B11: =IF(COUNT(B6:B10)=0,"",AVERAGE(B6:B10)) -> 0.39613826 | C11: =IF(COUNT(C6:C10)=0,"",AVERAGE(C6:C10)) -> 0.3947709 | D11: =IF(COUNT(D6:D10)=0,"",AVERAGE(D6:D10)) -> 0.38955082 | E11: =IF(COUNT(E6:E10)=0,"",AVERAGE(E6:E10)) -> 0.38409366 | F11: =IF(COUNT(F6:F10)=0,"",AVERAGE(F6:F10)) -> 0.37926224
A14: יחס יעילות — מדווח
A15: בנק | B15: 2023 | C15: 2024 | D15: 2025 | E15: H1-25 | F15: H1-26
A16: הפועלים | B16: =IFERROR(נתונים!$F$40/100,"") -> 0.385 | C16: =IFERROR(נתונים!$G$40/100,"") -> 0.41 | D16: =IFERROR(נתונים!$H$40/100,"") -> 0.342 | E16: =IFERROR(נתונים!$K$40/100,"") -> 0.338 | F16: =IFERROR(נתונים!$N$40/100,"") -> 0.333
A17: לאומי | B17: =IFERROR(נתונים!$F$85/100,"") -> 0.326 | C17: =IFERROR(נתונים!$G$85/100,"") -> 0.299 | D17: =IFERROR(נתונים!$H$85/100,"") -> 0.293 | E17: =IFERROR(נתונים!$K$85/100,"") -> 0.294 | F17: =IFERROR(נתונים!$N$85/100,"") -> 0.267
A18: מזרחי־טפחות | B18: =IFERROR(נתונים!$F$130/100,"") -> 0.377 | C18: =IFERROR(נתונים!$G$130/100,"") -> 0.355 | D18: =IFERROR(נתונים!$H$130/100,"") -> 0.359 | E18: =IFERROR(נתונים!$K$130/100,"") -> 0.363 | F18: =IFERROR(נתונים!$N$130/100,"") -> 0.359
A19: דיסקונט | B19: =IFERROR(נתונים!$F$175/100,"") -> 0.459 | C19: =IFERROR(נתונים!$G$175/100,"") -> 0.469 | D19: =IFERROR(נתונים!$H$175/100,"") -> 0.492 | E19: =IFERROR(נתונים!$K$175/100,"") -> 0.474 | F19: =IFERROR(נתונים!$N$175/100,"") -> 0.46
A20: הבינלאומי | B20: =IFERROR(נתונים!$F$220/100,"") -> 0.435 | C20: =IFERROR(נתונים!$G$220/100,"") -> 0.441 | D20: =IFERROR(נתונים!$H$220/100,"") -> 0.461 | E20: =IFERROR(נתונים!$K$220/100,"") -> 0.452 | F20: =IFERROR(נתונים!$N$220/100,"") -> 0.477
A21: ממוצע 5 הבנקים | B21: =IF(COUNT(B16:B20)=0,"",AVERAGE(B16:B20)) -> 0.3964 | C21: =IF(COUNT(C16:C20)=0,"",AVERAGE(C16:C20)) -> 0.3948 | D21: =IF(COUNT(D16:D20)=0,"",AVERAGE(D16:D20)) -> 0.3894 | E21: =IF(COUNT(E16:E20)=0,"",AVERAGE(E16:E20)) -> 0.3842 | F21: =IF(COUNT(F16:F20)=0,"",AVERAGE(F16:F20)) -> 0.3792
A24: הוצאות תפעוליות / נכסים ממוצעים
A25: בנק | B25: 2023 | C25: 2024 | D25: 2025 | E25: H1-25 | F25: H1-26
A26: הפועלים | B26: =IFERROR(נתונים!$F$10*1/AVERAGE(נתונים!$E$18,נתונים!$F$18),"") -> 0.012177089 | C26: =IFERROR(נתונים!$G$10*1/AVERAGE(נתונים!$F$18,נתונים!$G$18),"") -> 0.012799725 | D26: =IFERROR(נתונים!$H$10*1/AVERAGE(נתונים!$G$18,נתונים!$H$18),"") -> 0.011299427 | E26: =IFERROR(נתונים!$K$10*2/AVERAGE(נתונים!$G$18,נתונים!$J$18),"") -> 0.011094515 | F26: =IFERROR(נתונים!$N$10*2/AVERAGE(נתונים!$H$18,נתונים!$M$18),"") -> 0.010245309
A27: לאומי | B27: =IFERROR(נתונים!$F$55*1/AVERAGE(נתונים!$E$63,נתונים!$F$63),"") -> 0.0096374898 | C27: =IFERROR(נתונים!$G$55*1/AVERAGE(נתונים!$F$63,נתונים!$G$63),"") -> 0.0091018873 | D27: =IFERROR(נתונים!$H$55*1/AVERAGE(נתונים!$G$63,נתונים!$H$63),"") -> 0.0080167764 | E27: =IFERROR(נתונים!$K$55*2/AVERAGE(נתונים!$G$63,נתונים!$J$63),"") -> 0.0081993565 | F27: =IFERROR(נתונים!$N$55*2/AVERAGE(נתונים!$H$63,נתונים!$M$63),"") -> 0.0070738119
A28: מזרחי־טפחות | B28: =IFERROR(נתונים!$F$100*1/AVERAGE(נתונים!$E$108,נתונים!$F$108),"") -> 0.012707417 | C28: =IFERROR(נתונים!$G$100*1/AVERAGE(נתונים!$F$108,נתונים!$G$108),"") -> 0.011183845 | D28: =IFERROR(נתונים!$H$100*1/AVERAGE(נתונים!$G$108,נתונים!$H$108),"") -> 0.01010594 | E28: =IFERROR(נתונים!$K$100*2/AVERAGE(נתונים!$G$108,נתונים!$J$108),"") -> 0.010616893 | F28: =IFERROR(נתונים!$N$100*2/AVERAGE(נתונים!$H$108,נתונים!$M$108),"") -> 0.0092403806
A29: דיסקונט | B29: =IFERROR(נתונים!$F$145*1/AVERAGE(נתונים!$E$153,נתונים!$F$153),"") -> 0.015639602 | C29: =IFERROR(נתונים!$G$145*1/AVERAGE(נתונים!$F$153,נתונים!$G$153),"") -> 0.014716522 | D29: =IFERROR(נתונים!$H$145*1/AVERAGE(נתונים!$G$153,נתונים!$H$153),"") -> 0.014239714 | E29: =IFERROR(נתונים!$K$145*2/AVERAGE(נתונים!$G$153,נתונים!$J$153),"") -> 0.014142425 | F29: =IFERROR(נתונים!$N$145*2/AVERAGE(נתונים!$H$153,נתונים!$M$153),"") -> 0.012616394
A30: הבינלאומי | B30: =IFERROR(נתונים!$F$190*1/AVERAGE(נתונים!$E$198,נתונים!$F$198),"") -> 0.013780452 | C30: =IFERROR(נתונים!$G$190*1/AVERAGE(נתונים!$F$198,נתונים!$G$198),"") -> 0.012663882 | D30: =IFERROR(נתונים!$H$190*1/AVERAGE(נתונים!$G$198,נתונים!$H$198),"") -> 0.012120153 | E30: =IFERROR(נתונים!$K$190*2/AVERAGE(נתונים!$G$198,נתונים!$J$198),"") -> 0.012405346 | F30: =IFERROR(נתונים!$N$190*2/AVERAGE(נתונים!$H$198,נתונים!$M$198),"") -> 0.011374845
A31: ממוצע 5 הבנקים | B31: =IF(COUNT(B26:B30)=0,"",AVERAGE(B26:B30)) -> 0.01278841 | C31: =IF(COUNT(C26:C30)=0,"",AVERAGE(C26:C30)) -> 0.012093172 | D31: =IF(COUNT(D26:D30)=0,"",AVERAGE(D26:D30)) -> 0.011156402 | E31: =IF(COUNT(E26:E30)=0,"",AVERAGE(E26:E30)) -> 0.011291707 | F31: =IF(COUNT(F26:F30)=0,"",AVERAGE(F26:F30)) -> 0.010110148
A34: שכר מתוך ההוצאות התפעוליות
A35: בנק | B35: 2023 | C35: 2024 | D35: 2025 | E35: H1-25 | F35: H1-26
A36: הפועלים | B36: =IFERROR(נתונים!$F$11/נתונים!$F$10,"") -> 0.55606852 | C36: =IFERROR(נתונים!$G$11/נתונים!$G$10,"") -> 0.49805707 | D36: =IFERROR(נתונים!$H$11/נתונים!$H$10,"") -> 0.55580676 | E36: =IFERROR(נתונים!$K$11/נתונים!$K$10,"") -> 0.55582643 | F36: =IFERROR(נתונים!$N$11/נתונים!$N$10,"") -> 0.54471142
A37: לאומי | B37: =IFERROR(נתונים!$F$56/נתונים!$F$55,"") -> 0.50536699 | C37: =IFERROR(נתונים!$G$56/נתונים!$G$55,"") -> 0.54982619 | D37: =IFERROR(נתונים!$H$56/נתונים!$H$55,"") -> 0.53850782 | E37: =IFERROR(נתונים!$K$56/נתונים!$K$55,"") -> 0.55103262 | F37: =IFERROR(נתונים!$N$56/נתונים!$N$55,"") -> 0.5666356
A38: מזרחי־טפחות | B38: =IFERROR(נתונים!$F$101/נתונים!$F$100,"") -> 0.63637996 | C38: =IFERROR(נתונים!$G$101/נתונים!$G$100,"") -> 0.65702796 | D38: =IFERROR(נתונים!$H$101/נתונים!$H$100,"") -> 0.63905325 | E38: =IFERROR(נתונים!$K$101/נתונים!$K$100,"") -> 0.65138993 | F38: =IFERROR(נתונים!$N$101/נתונים!$N$100,"") -> 0.63977055
A39: דיסקונט | B39: =IFERROR(נתונים!$F$146/נתונים!$F$145,"") -> 0.55934694 | C39: =IFERROR(נתונים!$G$146/נתונים!$G$145,"") -> 0.55754352 | D39: =IFERROR(נתונים!$H$146/נתונים!$H$145,"") -> 0.53233679 | E39: =IFERROR(נתונים!$K$146/נתונים!$K$145,"") -> 0.54929577 | F39: =IFERROR(נתונים!$N$146/נתונים!$N$145,"") -> 0.54368612
A40: הבינלאומי | B40: =IFERROR(נתונים!$F$191/נתונים!$F$190,"") -> 0.61383385 | C40: =IFERROR(נתונים!$G$191/נתונים!$G$190,"") -> 0.58414511 | D40: =IFERROR(נתונים!$H$191/נתונים!$H$190,"") -> 0.55454545 | E40: =IFERROR(נתונים!$K$191/נתונים!$K$190,"") -> 0.56908517 | F40: =IFERROR(נתונים!$N$191/נתונים!$N$190,"") -> 0.54551046
A41: ממוצע 5 הבנקים | B41: =IF(COUNT(B36:B40)=0,"",AVERAGE(B36:B40)) -> 0.57419925 | C41: =IF(COUNT(C36:C40)=0,"",AVERAGE(C36:C40)) -> 0.56931997 | D41: =IF(COUNT(D36:D40)=0,"",AVERAGE(D36:D40)) -> 0.56405002 | E41: =IF(COUNT(E36:E40)=0,"",AVERAGE(E36:E40)) -> 0.57532599 | F41: =IF(COUNT(F36:F40)=0,"",AVERAGE(F36:F40)) -> 0.56806283
A44: משרות / עובדים
A45: בנק | B45: 2023 | C45: 2024 | D45: 2025
A46: הפועלים | B46: =IFERROR(נתונים!$F$46,"") -> 8602 | C46: =IFERROR(נתונים!$G$46,"") -> 8471 | D46: =IFERROR(נתונים!$H$46,"") -> 8479
A47: לאומי | B47: =IFERROR(נתונים!$F$91,"") -> 7962 | C47: =IFERROR(נתונים!$G$91,"") -> 7865 | D47: =IFERROR(נתונים!$H$91,"") -> 7610
A48: מזרחי־טפחות | B48: =IFERROR(נתונים!$F$136,"") -> 7148 | C48: =IFERROR(נתונים!$G$136,"") -> 7174 | D48: =IFERROR(נתונים!$H$136,"") -> 7223
A49: דיסקונט | B49: =IFERROR(נתונים!$F$181,"") -> 6925 | C49: =IFERROR(נתונים!$G$181,"") -> 7029 | D49: =IFERROR(נתונים!$H$181,"") -> 6852
...

Sheet הון ונזילות
A1: הון ונזילות
A2: יחסי הון ונזילות לסוף תקופה, כפי שדווחו. עודף הון = יחס CET1 בפועל פחות הדרישה המזערית של הפיקוח על הבנקים.
A4: יחס הון עצמי רובד 1 (CET1)
A5: בנק | B5: 2023 | C5: 2024 | D5: 2025 | E5: Q1-26 | F5: Q2-26
A6: הפועלים | B6: =IFERROR(נתונים!$F$34/100,"") -> 0.1202 | C6: =IFERROR(נתונים!$G$34/100,"") -> 0.118 | D6: =IFERROR(נתונים!$H$34/100,"") -> 0.1198 | E6: =IFERROR(נתונים!$L$34/100,"") -> 0.1171 | F6: =IFERROR(נתונים!$M$34/100,"") -> 0.1183
A7: לאומי | B7: =IFERROR(נתונים!$F$79/100,"") -> 0.1166 | C7: =IFERROR(נתונים!$G$79/100,"") -> 0.1217 | D7: =IFERROR(נתונים!$H$79/100,"") -> 0.1205 | E7: =IFERROR(נתונים!$L$79/100,"") -> 0.1174 | F7: =IFERROR(נתונים!$M$79/100,"") -> 0.1165
A8: מזרחי־טפחות | B8: =IFERROR(נתונים!$F$124/100,"") -> 0.1032 | C8: =IFERROR(נתונים!$G$124/100,"") -> 0.104 | D8: =IFERROR(נתונים!$H$124/100,"") -> 0.1024 | E8: =IFERROR(נתונים!$L$124/100,"") -> 0.1017 | F8: =IFERROR(נתונים!$M$124/100,"") -> 0.1022
A9: דיסקונט | B9: =IFERROR(נתונים!$F$169/100,"") -> 0.1071 | C9: =IFERROR(נתונים!$G$169/100,"") -> 0.1066 | D9: =IFERROR(נתונים!$H$169/100,"") -> 0.1038 | E9: =IFERROR(נתונים!$L$169/100,"") -> 0.1024 | F9: =IFERROR(נתונים!$M$169/100,"") -> 0.1027
A10: הבינלאומי | B10: =IFERROR(נתונים!$F$214/100,"") -> 0.1135 | C10: =IFERROR(נתונים!$G$214/100,"") -> 0.1131 | D10: =IFERROR(נתונים!$H$214/100,"") -> 0.111 | E10: =IFERROR(נתונים!$L$214/100,"") -> 0.1082 | F10: =IFERROR(נתונים!$M$214/100,"") -> 0.1087
A11: ממוצע 5 הבנקים | B11: =IF(COUNT(B6:B10)=0,"",AVERAGE(B6:B10)) -> 0.11212 | C11: =IF(COUNT(C6:C10)=0,"",AVERAGE(C6:C10)) -> 0.11268 | D11: =IF(COUNT(D6:D10)=0,"",AVERAGE(D6:D10)) -> 0.1115 | E11: =IF(COUNT(E6:E10)=0,"",AVERAGE(E6:E10)) -> 0.10936 | F11: =IF(COUNT(F6:F10)=0,"",AVERAGE(F6:F10)) -> 0.10968
A14: דרישת מינימום CET1
A15: בנק | B15: 2023 | C15: 2024 | D15: 2025 | E15: Q1-26 | F15: Q2-26
A16: הפועלים | B16: =IFERROR(נתונים!$F$36/100,"") -> 0.1023 | C16: =IFERROR(נתונים!$G$36/100,"") -> 0.1023 | D16: =IFERROR(נתונים!$H$36/100,"") -> 0.1023 | E16: =IFERROR(נתונים!$L$36/100,"") -> 0.1023 | F16: =IFERROR(נתונים!$M$36/100,"") -> 0.1023
A17: לאומי | B17: =IFERROR(נתונים!$F$81/100,"") -> 0.1022 | C17: =IFERROR(נתונים!$G$81/100,"") -> 0.1024 | D17: =IFERROR(נתונים!$H$81/100,"") -> 0.1024 | E17: =IFERROR(נתונים!$L$81/100,"") -> 0.1024 | F17: =IFERROR(נתונים!$M$81/100,"") -> 0.1023
A18: מזרחי־טפחות | B18: =IFERROR(נתונים!$F$126/100,"") -> 0.096 | C18: =IFERROR(נתונים!$G$126/100,"") -> 0.096 | D18: =IFERROR(נתונים!$H$126/100,"") -> 0.096 | E18: =IFERROR(נתונים!$L$126/100,"") -> 0.096 | F18: =IFERROR(נתונים!$M$126/100,"") -> 0.096
A19: דיסקונט | B19: =IFERROR(נתונים!$F$171/100,"") -> 0.092 | C19: =IFERROR(נתונים!$G$171/100,"") -> 0.0919 | D19: =IFERROR(נתונים!$H$171/100,"") -> 0.092 | E19: =IFERROR(נתונים!$L$171/100,"") -> 0.092 | F19: =IFERROR(נתונים!$M$171/100,"") -> 0.0921
A20: הבינלאומי | B20: =IFERROR(נתונים!$F$216/100,"") -> 0.0924 | C20: =IFERROR(נתונים!$G$216/100,"") -> 0.0923 | D20: =IFERROR(נתונים!$H$216/100,"") -> 0.0923 | E20: =IFERROR(נתונים!$L$216/100,"") -> 0.0924 | F20: =IFERROR(נתונים!$M$216/100,"") -> 0.0924
A21: ממוצע 5 הבנקים | B21: =IF(COUNT(B16:B20)=0,"",AVERAGE(B16:B20)) -> 0.09698 | C21: =IF(COUNT(C16:C20)=0,"",AVERAGE(C16:C20)) -> 0.09698 | D21: =IF(COUNT(D16:D20)=0,"",AVERAGE(D16:D20)) -> 0.097 | E21: =IF(COUNT(E16:E20)=0,"",AVERAGE(E16:E20)) -> 0.09702 | F21: =IF(COUNT(F16:F20)=0,"",AVERAGE(F16:F20)) -> 0.09702
A24: עודף CET1 מעל הדרישה (נקודות אחוז)
A25: בנק | B25: 2023 | C25: 2024 | D25: 2025 | E25: Q1-26 | F25: Q2-26
A26: הפועלים | B26: =IFERROR((נתונים!$F$34-נתונים!$F$36)/100,"") -> 0.0179 | C26: =IFERROR((נתונים!$G$34-נתונים!$G$36)/100,"") -> 0.0157 | D26: =IFERROR((נתונים!$H$34-נתונים!$H$36)/100,"") -> 0.0175 | E26: =IFERROR((נתונים!$L$34-נתונים!$L$36)/100,"") -> 0.0148 | F26: =IFERROR((נתונים!$M$34-נתונים!$M$36)/100,"") -> 0.016
A27: לאומי | B27: =IFERROR((נתונים!$F$79-נתונים!$F$81)/100,"") -> 0.0144 | C27: =IFERROR((נתונים!$G$79-נתונים!$G$81)/100,"") -> 0.0193 | D27: =IFERROR((נתונים!$H$79-נתונים!$H$81)/100,"") -> 0.0181 | E27: =IFERROR((נתונים!$L$79-נתונים!$L$81)/100,"") -> 0.015 | F27: =IFERROR((נתונים!$M$79-נתונים!$M$81)/100,"") -> 0.0142
A28: מזרחי־טפחות | B28: =IFERROR((נתונים!$F$124-נתונים!$F$126)/100,"") -> 0.0072 | C28: =IFERROR((נתונים!$G$124-נתונים!$G$126)/100,"") -> 0.008 | D28: =IFERROR((נתונים!$H$124-נתונים!$H$126)/100,"") -> 0.0064 | E28: =IFERROR((נתונים!$L$124-נתונים!$L$126)/100,"") -> 0.0057 | F28: =IFERROR((נתונים!$M$124-נתונים!$M$126)/100,"") -> 0.0062
A29: דיסקונט | B29: =IFERROR((נתונים!$F$169-נתונים!$F$171)/100,"") -> 0.0151 | C29: =IFERROR((נתונים!$G$169-נתונים!$G$171)/100,"") -> 0.0147 | D29: =IFERROR((נתונים!$H$169-נתונים!$H$171)/100,"") -> 0.0118 | E29: =IFERROR((נתונים!$L$169-נתונים!$L$171)/100,"") -> 0.0104 | F29: =IFERROR((נתונים!$M$169-נתונים!$M$171)/100,"") -> 0.0106
A30: הבינלאומי | B30: =IFERROR((נתונים!$F$214-נתונים!$F$216)/100,"") -> 0.0211 | C30: =IFERROR((נתונים!$G$214-נתונים!$G$216)/100,"") -> 0.0208 | D30: =IFERROR((נתונים!$H$214-נתונים!$H$216)/100,"") -> 0.0187 | E30: =IFERROR((נתונים!$L$214-נתונים!$L$216)/100,"") -> 0.0158 | F30: =IFERROR((נתונים!$M$214-נתונים!$M$216)/100,"") -> 0.0163
A31: ממוצע 5 הבנקים | B31: =IF(COUNT(B26:B30)=0,"",AVERAGE(B26:B30)) -> 0.01514 | C31: =IF(COUNT(C26:C30)=0,"",AVERAGE(C26:C30)) -> 0.0157 | D31: =IF(COUNT(D26:D30)=0,"",AVERAGE(D26:D30)) -> 0.0145 | E31: =IF(COUNT(E26:E30)=0,"",AVERAGE(E26:E30)) -> 0.01234 | F31: =IF(COUNT(F26:F30)=0,"",AVERAGE(F26:F30)) -> 0.01266
A34: עודף הון CET1 במיליוני ש"ח
A35: בנק | B35: 2023 | C35: 2024 | D35: 2025 | E35: Q1-26 | F35: Q2-26
A36: הפועלים | B36: =IFERROR((נתונים!$F$34-נתונים!$F$36)/100*נתונים!$F$28,"") -> 7837.5508 | C36: =IFERROR((נתונים!$G$34-נתונים!$G$36)/100*נתונים!$G$28,"") -> 7736.3791 | D36: =IFERROR((נתונים!$H$34-נתונים!$H$36)/100*נתונים!$H$28,"") -> 9436.525 | E36: =IFERROR((נתונים!$L$34-נתונים!$L$36)/100*נתונים!$L$28,"") -> 8267.9904 | F36: =IFERROR((נתונים!$M$34-נתונים!$M$36)/100*נתונים!$M$28,"") -> 9077.376
A37: לאומי | B37: =IFERROR((נתונים!$F$79-נתונים!$F$81)/100*נתונים!$F$73,"") -> 6655.3344 | C37: =IFERROR((נתונים!$G$79-נתונים!$G$81)/100*נתונים!$G$73,"") -> 9713.2847 | D37: =IFERROR((נתונים!$H$79-נתונים!$H$81)/100*נתונים!$H$73,"") -> 10155.783 | E37: =IFERROR((נתונים!$L$79-נתונים!$L$81)/100*נתונים!$L$73,"") -> 8708.475 | F37: =IFERROR((נתונים!$M$79-נתונים!$M$81)/100*נתונים!$M$73,"") -> 8529.9684
A38: מזרחי־טפחות | B38: =IFERROR((נתונים!$F$124-נתונים!$F$126)/100*נתונים!$F$118,"") -> 1983.168 | C38: =IFERROR((נתונים!$G$124-נתונים!$G$126)/100*נתונים!$G$118,"") -> 2458.912 | D38: =IFERROR((נתונים!$H$124-נתונים!$H$126)/100*נתונים!$H$118,"") -> 2202.592 | E38: =IFERROR((נתונים!$L$124-נתונים!$L$126)/100*נתונים!$L$118,"") -> 2000.871 | F38: =IFERROR((נתונים!$M$124-נתונים!$M$126)/100*נתונים!$M$118,"") -> 2220.1084
A39: דיסקונט | B39: =IFERROR((נתונים!$F$169-נתונים!$F$171)/100*נתונים!$F$163,"") -> 4073.5119 | C39: =IFERROR((נתונים!$G$169-נתונים!$G$171)/100*נתונים!$G$163,"") -> 4456.5402 | D39: =IFERROR((נתונים!$H$169-נתונים!$H$171)/100*נתונים!$H$163,"") -> 3925.093 | E39: =IFERROR((נתונים!$L$169-נתונים!$L$171)/100*נתונים!$L$163,"") -> 3540.0664 | F39: =IFERROR((נתונים!$M$169-נתונים!$M$171)/100*נתונים!$M$163,"") -> 3665.533
